BEGIN:VCALENDAR
VERSION:2.0
PRODID:-//wp-events-plugin.com//7.2.3.1//EN
TZID:America/Chicago
X-WR-TIMEZONE:America/Chicago
BEGIN:VEVENT
UID:16633@thecmf.com
DTSTART;TZID=America/Chicago:20260711T200000
DTEND;TZID=America/Chicago:20260711T200000
DTSTAMP:20260119T081609Z
URL:https://thecmf.com/events/zebra-donnie-vie-from-enuff-znuff/
SUMMARY:ZEBRA\, DONNIE VIE (FROM ENUFF Z’NUFF)
DESCRIPTION:\nZEBRA: 50th ANNIVERSARY TOUR with SPECIAL GUEST DONNIE VIE (F
 ROM ENUFF Z’NUFF)\n\n\nJuly 11 @ 8:00 pm\n\n\n\n\n\nZebra\, consisting o
 f Randy Jackson\, Felix Hanemann and Guy Gelso\, concocted their moniker f
 rom a 1926 Vogue magazine cover and soon won over the South and East Coast
 . In 1982 Zebra’s self-titled debut album went gold and was the fastest 
 selling debut album in Atlantic Records’ history thanks to the radio and
  MTV airplay of “Tell Me What You Want” and “Who’s Behind the Door
 ?”. Zebra’s live performances often last over two hours and showcase a
 ll the classic Zebra tunes: “Who’s Behind the Door?”\, “Tell Me Wh
 at You Want”\, “Wait Until the Summer’s Gone”\, “Bears”\, “O
 ne More Chance” and other all-time favorites including an occasional Led
  Zeppelin cover.\n\nDonnie Vie\, from Enuff Z’Nuff\, is one of rock’s 
 biggest secrets who has been crafting melodic power pop and rock songs for
  over 30 years. Donnie now continues his songwriting and performing under 
 his own name\, releasing a string of well-regarded and critically acclaime
 d songs and albums garnering him a Grammy nomination.\nBuy Now\nZEBRA VIP 
 MEET &amp\; GREET PACKAGE IS AVAILABLE BY CLICKING HERE!\n\n\n\n\n\nAdd t
 o calendar\n\n\n\nBuy Tickets\n\n\nDetails\n\n 	Date:July 11\n 	Time:\n8:0
 0 pm\n 	Event Categories:Classic Rock\, New Show\n\n\n\nVenue\n\n 	Arcada
  Theatre\n 	105 E Main St\nSt. Charles\, IL 60174 United States\n\n\n\n
ATTACH;FMTTYPE=image/jpeg:https://thecmf.com/wp-content/uploads/2026/01/Ze
 bra-with-Donnie-Vie.png.webp
CATEGORIES:All Ages
LOCATION:Arcada Theatre\, 105 E Main St\, Saint Charles\, Illinois\, 60174\
 , United States
GEO:41.916953;-88.294768
X-APPLE-STRUCTURED-LOCATION;VALUE=URI;X-ADDRESS=105 E Main St\, Saint Charl
 es\, Illinois\, 60174\, United States;X-APPLE-RADIUS=100;X-TITLE=Arcada Th
 eatre:geo:41.916953,-88.294768
END:VEVENT
BEGIN:VTIMEZONE
TZID:America/Chicago
X-LIC-LOCATION:America/Chicago
BEGIN:DAYLIGHT
DTSTART:20260308T030000
TZOFFSETFROM:-0600
TZOFFSETTO:-0500
TZNAME:CDT
END:DAYLIGHT
END:VTIMEZONE
END:VCALENDAR