BEGIN:VCALENDAR
VERSION:2.0
PRODID:-//wp-events-plugin.com//7.2.3.1//EN
TZID:America/Chicago
X-WR-TIMEZONE:America/Chicago
BEGIN:VEVENT
UID:16928@thecmf.com
DTSTART;TZID=America/Chicago:20260503T140000
DTEND;TZID=America/Chicago:20260503T190000
DTSTAMP:20260406T224148Z
URL:https://thecmf.com/events/wrath-hammer-vow-of-resonance-nekranova-mylp
 h-wicked-deception/
SUMMARY:WRATH HAMMER\, VOW OF RESONANCE\, NEKRANOVA\, MYLPH\, WICKED DECEPT
 ION
DESCRIPTION:Headbang the afternoon away! \nJoin us for a special Matinee Me
 tal show from 2 PM to 7 PM.\nAll ages welcome!\nPay What You Want – 100%
  of the cover goes to the bands!\n
ATTACH;FMTTYPE=image/jpeg:https://thecmf.com/wp-content/uploads/2026/04/05
 03FORGE.jpg
CATEGORIES:All Ages
LOCATION:The Forge\, 22 W Cass St\, Joliet\, Illinois\, 60432\, United Stat
 es
GEO:41.52764;-88.082067
X-APPLE-STRUCTURED-LOCATION;VALUE=URI;X-ADDRESS=22 W Cass St\, Joliet\, Ill
 inois\, 60432\, United States;X-APPLE-RADIUS=100;X-TITLE=The Forge:geo:41.
 52764,-88.082067
END:VEVENT
BEGIN:VTIMEZONE
TZID:America/Chicago
X-LIC-LOCATION:America/Chicago
BEGIN:DAYLIGHT
DTSTART:20260308T030000
TZOFFSETFROM:-0600
TZOFFSETTO:-0500
TZNAME:CDT
END:DAYLIGHT
END:VTIMEZONE
END:VCALENDAR