BEGIN:VCALENDAR
VERSION:2.0
PRODID:-//wp-events-plugin.com//7.2.3.1//EN
TZID:America/Chicago
X-WR-TIMEZONE:America/Chicago
BEGIN:VEVENT
UID:16683@thecmf.com
DTSTART;TZID=America/Chicago:20260519T190000
DTEND;TZID=America/Chicago:20260519T190000
DTSTAMP:20260130T190313Z
URL:https://thecmf.com/events/witch-vomit-torture-rack-organ-failure-morbi
 dity/
SUMMARY:WITCH VOMIT\, TORTURE RACK\, ORGAN FAILURE\, MORBIDITY
DESCRIPTION:\nWitch Vomit\nTorture Rack\nOrgan Failure\nMorbidity\n\n\nTues
 day 5.19.2026 // 7:00PM // Reggies (Chicago)\n\n\n
ATTACH;FMTTYPE=image/jpeg:https://thecmf.com/wp-content/uploads/2026/01/62
 2805531_10241871277982675_8868684382657325564_n.jpg
CATEGORIES:17+
LOCATION:Reggies Rock Club\, 2109 S State St\, Chicago\, Illinois\, 60616\,
  United States
GEO:41.853951;-87.62679
X-APPLE-STRUCTURED-LOCATION;VALUE=URI;X-ADDRESS=2109 S State St\, Chicago\,
  Illinois\, 60616\, United States;X-APPLE-RADIUS=100;X-TITLE=Reggies Rock 
 Club:geo:41.853951,-87.62679
END:VEVENT
BEGIN:VTIMEZONE
TZID:America/Chicago
X-LIC-LOCATION:America/Chicago
BEGIN:DAYLIGHT
DTSTART:20260308T030000
TZOFFSETFROM:-0600
TZOFFSETTO:-0500
TZNAME:CDT
END:DAYLIGHT
END:VTIMEZONE
END:VCALENDAR