BEGIN:VCALENDAR
VERSION:2.0
PRODID:-//wp-events-plugin.com//7.2.3.1//EN
TZID:America/Chicago
X-WR-TIMEZONE:America/Chicago
BEGIN:VEVENT
UID:16674@thecmf.com
DTSTART;TZID=America/Chicago:20260607T190000
DTEND;TZID=America/Chicago:20260607T190000
DTSTAMP:20260129T001900Z
URL:https://thecmf.com/events/witch-club-satan-patriarchy/
SUMMARY:WITCH CLUB SATAN\, PATRIARCHY
DESCRIPTION:\nTICKETS\n\n\nWITCH CLUB SATAN\n\n\nWitch Club Satan is an occ
 ult\, feminist Black Metal band forged in raw energy and defiance. Compose
 d of Nikoline Spjelkavik (guitar)\, Victoria Røising (bass)\, and Johanna
  Holt Kleive (drums)\, the trio of witches\, channeling their voices along
 side the echoes of their ancestors and the persecuted women burned at the 
 stake. Their music is an incantation of spells\, transforming each perform
 ance into a ritualistic\, all-encompassing experience- an assault on the s
 enses through extreme visuals and immersive elements. Musically\, they dra
 w from the early\, punk roots of Norwegian black metal\, yet carve out a s
 ound entirely their own. Together with their audience\, Witch Club Satan c
 onjures a relentless\, primal force\, a sonic mayhem\, a feral scream of r
 esistance.\n\n\n\n\n 	Band Website\n 	Facebook\n 	Instagram\n\n\nPATRIARCH
 Y\n\n\n 	Band Website\n 	Facebook\n 	Instagram\n\n\nTBA\n\n\n\n\n 	7:00 pm
  Doors\n 	8:00 pm Show\n 	17+\n\n\n
ATTACH;FMTTYPE=image/jpeg:https://thecmf.com/wp-content/uploads/2026/01/WI
 TCH-CLUB-SATAN-11x17-1-188x291-1.jpeg
CATEGORIES:17+
LOCATION:Reggies Rock Club\, 2109 S State St\, Chicago\, Illinois\, 60616\,
  United States
GEO:41.853951;-87.62679
X-APPLE-STRUCTURED-LOCATION;VALUE=URI;X-ADDRESS=2109 S State St\, Chicago\,
  Illinois\, 60616\, United States;X-APPLE-RADIUS=100;X-TITLE=Reggies Rock 
 Club:geo:41.853951,-87.62679
END:VEVENT
BEGIN:VTIMEZONE
TZID:America/Chicago
X-LIC-LOCATION:America/Chicago
BEGIN:DAYLIGHT
DTSTART:20260308T030000
TZOFFSETFROM:-0600
TZOFFSETTO:-0500
TZNAME:CDT
END:DAYLIGHT
END:VTIMEZONE
END:VCALENDAR