BEGIN:VCALENDAR
VERSION:2.0
PRODID:-//wp-events-plugin.com//7.2.3.1//EN
TZID:America/Chicago
X-WR-TIMEZONE:America/Chicago
BEGIN:VEVENT
UID:16806@thecmf.com
DTSTART;TZID=America/Chicago:20260512T183000
DTEND;TZID=America/Chicago:20260512T183000
DTSTAMP:20260303T054701Z
URL:https://thecmf.com/events/wage-war-nevertel-orthodox/
SUMMARY:WAGE WAR\, NEVERTEL\, ORTHODOX
DESCRIPTION:Wage War - It Calls Me By Name Tour\nWage War\nNevertel\nOrthod
 ox\n\nTICKETS\n\nTue • May 12\, 2026 • 6:30 PM\nHouse of Blues Chicago
 \nChicago\, IL
ATTACH;FMTTYPE=image/jpeg:https://thecmf.com/wp-content/uploads/2026/03/05
 12hob.jpg
CATEGORIES:17+
LOCATION:House of Blues\, 329 N Dearborn St\, Chicago\, Illinois\, 60654\, 
 United States
GEO:41.878114;-87.629798
X-APPLE-STRUCTURED-LOCATION;VALUE=URI;X-ADDRESS=329 N Dearborn St\, Chicago
 \, Illinois\, 60654\, United States;X-APPLE-RADIUS=100;X-TITLE=House of Bl
 ues:geo:41.878114,-87.629798
END:VEVENT
BEGIN:VTIMEZONE
TZID:America/Chicago
X-LIC-LOCATION:America/Chicago
BEGIN:DAYLIGHT
DTSTART:20260308T030000
TZOFFSETFROM:-0600
TZOFFSETTO:-0500
TZNAME:CDT
END:DAYLIGHT
END:VTIMEZONE
END:VCALENDAR