BEGIN:VCALENDAR
VERSION:2.0
PRODID:-//wp-events-plugin.com//7.2.3.1//EN
TZID:America/Chicago
X-WR-TIMEZONE:America/Chicago
BEGIN:VEVENT
UID:16753@thecmf.com
DTSTART;TZID=America/Chicago:20261009T200000
DTEND;TZID=America/Chicago:20261009T200000
DTSTAMP:20260219T231856Z
URL:https://thecmf.com/events/w-a-s-p-kks-priest/
SUMMARY:W.A.S.P.\, KK’S PRIEST
DESCRIPTION:\nW.A.S.P. – 1984 TO HEADLESS with SPECIAL GUEST KK’S PRIES
 T\n\n\nOctober 9 @ 8:00 pm\n\n\n
ATTACH;FMTTYPE=image/jpeg:https://thecmf.com/wp-content/uploads/2026/02/WA
 SP-KKs-Priest-web.png.webp
CATEGORIES:All Ages
LOCATION:Des Plaines Theatre\, 1476 Miner St\, Des Plaines\, Illinois\, 600
 16\, United States
X-APPLE-STRUCTURED-LOCATION;VALUE=URI;X-ADDRESS=1476 Miner St\, Des Plaines
 \, Illinois\, 60016\, United States;X-APPLE-RADIUS=100;X-TITLE=Des Plaines
  Theatre:geo:0,0
END:VEVENT
BEGIN:VTIMEZONE
TZID:America/Chicago
X-LIC-LOCATION:America/Chicago
BEGIN:DAYLIGHT
DTSTART:20260308T030000
TZOFFSETFROM:-0600
TZOFFSETTO:-0500
TZNAME:CDT
END:DAYLIGHT
END:VTIMEZONE
END:VCALENDAR