BEGIN:VCALENDAR
VERSION:2.0
PRODID:-//wp-events-plugin.com//7.2.3.1//EN
TZID:America/Chicago
X-WR-TIMEZONE:America/Chicago
BEGIN:VEVENT
UID:7686@thecmf.com
DTSTART;TZID=America/Chicago:20190817T170000
DTEND;TZID=America/Chicago:20190817T170000
DTSTAMP:20190613T175310Z
URL:https://thecmf.com/events/vince-neil-enuff-z-nuff-kip-winger/
SUMMARY:VINCE NEIL\, ENUFF Z'NUFF\, KIP WINGER
DESCRIPTION:Bands in the sand 2019 with Legendary Rocker VINCE NEIL singing
  all of our Favorite MOTLEY CRUE Hits!!! Plus Special guests ENUFF Z NUFF\
 n\n
LOCATION:\, \, 
X-APPLE-STRUCTURED-LOCATION;VALUE=URI;X-ADDRESS=\, ;X-APPLE-RADIUS=100;X-TI
 TLE=:geo:0,0
END:VEVENT
BEGIN:VTIMEZONE
TZID:America/Chicago
X-LIC-LOCATION:America/Chicago
BEGIN:DAYLIGHT
DTSTART:20190310T030000
TZOFFSETFROM:-0600
TZOFFSETTO:-0500
TZNAME:CDT
END:DAYLIGHT
END:VTIMEZONE
END:VCALENDAR