BEGIN:VCALENDAR
VERSION:2.0
PRODID:-//wp-events-plugin.com//7.2.3.1//EN
TZID:America/Chicago
X-WR-TIMEZONE:America/Chicago
BEGIN:VEVENT
UID:16872@thecmf.com
DTSTART;TZID=America/Chicago:20260520T190000
DTEND;TZID=America/Chicago:20260520T190000
DTSTAMP:20260323T221243Z
URL:https://thecmf.com/events/unmerciful-opium-death-infernal-conquering-a
 nnihilation-principle-cannibal-abortion/
SUMMARY:UNMERCIFUL\, OPIUM DEATH\, INFERNAL CONQUERING\, ANNIHILATION PRINC
 IPLE\, CANNIBAL ABORTION 
DESCRIPTION:&nbsp\;\n\n
ATTACH;FMTTYPE=image/jpeg:https://thecmf.com/wp-content/uploads/2026/03/05
 20cobra.jpg
CATEGORIES:21+
LOCATION:Cobra Lounge\, 235 N Ashland Ave\, Chicago\, Illinois\, 60607\, Un
 ited States
GEO:41.886381;-87.666786
X-APPLE-STRUCTURED-LOCATION;VALUE=URI;X-ADDRESS=235 N Ashland Ave\, Chicago
 \, Illinois\, 60607\, United States;X-APPLE-RADIUS=100;X-TITLE=Cobra Loung
 e:geo:41.886381,-87.666786
END:VEVENT
BEGIN:VTIMEZONE
TZID:America/Chicago
X-LIC-LOCATION:America/Chicago
BEGIN:DAYLIGHT
DTSTART:20260308T030000
TZOFFSETFROM:-0600
TZOFFSETTO:-0500
TZNAME:CDT
END:DAYLIGHT
END:VTIMEZONE
END:VCALENDAR