BEGIN:VCALENDAR
VERSION:2.0
PRODID:-//wp-events-plugin.com//7.2.3.1//EN
TZID:America/Chicago
X-WR-TIMEZONE:America/Chicago
BEGIN:VEVENT
UID:16491@thecmf.com
DTSTART;TZID=America/Chicago:20260513T200000
DTEND;TZID=America/Chicago:20260513T200000
DTSTAMP:20260203T001319Z
URL:https://thecmf.com/events/triumph-april-wine/
SUMMARY:TRIUMPH\, APRIL WINE
DESCRIPTION:https://livemu.sc/3MqVewn\n\n\n&nbsp\;\n\nTriumph: The Rock &am
 p\; Roll Machine Reloaded Tour\n\nDate\nWed • May 13\, 2026 • 8:00 PM
ATTACH;FMTTYPE=image/jpeg:https://thecmf.com/wp-content/uploads/2025/12/61
 1284652_1400705491840546_1755126279641262523_n.jpg
CATEGORIES:All Ages
LOCATION:Allstate Arena\, 6920 Mannheim Rd\, Rosemont\, Illinois\, 60018\, 
 United States
GEO:42.004918;-87.88772
X-APPLE-STRUCTURED-LOCATION;VALUE=URI;X-ADDRESS=6920 Mannheim Rd\, Rosemont
 \, Illinois\, 60018\, United States;X-APPLE-RADIUS=100;X-TITLE=Allstate Ar
 ena:geo:42.004918,-87.88772
END:VEVENT
BEGIN:VTIMEZONE
TZID:America/Chicago
X-LIC-LOCATION:America/Chicago
BEGIN:DAYLIGHT
DTSTART:20260308T030000
TZOFFSETFROM:-0600
TZOFFSETTO:-0500
TZNAME:CDT
END:DAYLIGHT
END:VTIMEZONE
END:VCALENDAR