BEGIN:VCALENDAR
VERSION:2.0
PRODID:-//wp-events-plugin.com//7.2.3.1//EN
TZID:America/Chicago
X-WR-TIMEZONE:America/Chicago
BEGIN:VEVENT
UID:13422@thecmf.com
DTSTART;TZID=America/Chicago:20240831T140000
DTEND;TZID=America/Chicago:20240831T140000
DTSTAMP:20240827T010147Z
URL:https://thecmf.com/events/thunderdome-vang-sex-dream-misunderstood-ven
 ganza-the-distractions-grey-trash-aliens-tofts-something-in-the-shadows/
SUMMARY:THUNDERDOME\, VANG!\, SEX DREAM\, MISUNDERSTOOD\, VENGANZA\, THE DI
 STRACTIONS\, GREY TRASH ALIENS\, TOFTS\, SOMETHING IN THE SHADOWS
DESCRIPTION:Tickets\nTHUNDER&#x26a1\;&#xfe0f\;DOME (9:40pm)\nVANG ! (8:50pm
 )\nSEX DREAM (8pm)\nMISUNDERSTOOD (7:10pm)\nVENGANZA (6:20pm)\nTHE DISTRAC
 TIONS (5:30pm)\nGREY TRASH ALIENS (4:40pm)\nTOFTS (3:50pm)\nSOMETHING IN T
 HE SHADOWS (3pm)\nALL AGES / $15 / 21+ FULL BAR\nhttps://www.facebook.com/
 events/891935956026701\nhttps://punkrocktacos.net/shows/punk-rock-tacos-su
 mmer-series-4/
ATTACH;FMTTYPE=image/jpeg:https://thecmf.com/wp-content/uploads/2024/05/45
 7138053_525580529984122_703674952273420012_n.jpg
CATEGORIES:All Ages
LOCATION:Cemitas Poblanas\, 345 W North Ave\, Villa Park\, Illinois\, 60181
 \, United States
GEO:41.90497;-87.986794
X-APPLE-STRUCTURED-LOCATION;VALUE=URI;X-ADDRESS=345 W North Ave\, Villa Par
 k\, Illinois\, 60181\, United States;X-APPLE-RADIUS=100;X-TITLE=Cemitas Po
 blanas:geo:41.90497,-87.986794
END:VEVENT
BEGIN:VTIMEZONE
TZID:America/Chicago
X-LIC-LOCATION:America/Chicago
BEGIN:DAYLIGHT
DTSTART:20240310T030000
TZOFFSETFROM:-0600
TZOFFSETTO:-0500
TZNAME:CDT
END:DAYLIGHT
END:VTIMEZONE
END:VCALENDAR