BEGIN:VCALENDAR
VERSION:2.0
PRODID:-//wp-events-plugin.com//7.2.3.1//EN
TZID:America/Chicago
X-WR-TIMEZONE:America/Chicago
BEGIN:VEVENT
UID:12797@thecmf.com
DTSTART;TZID=America/Chicago:20240719T120000
DTEND;TZID=America/Chicago:20240720T120000
DTSTAMP:20240719T212056Z
URL:https://thecmf.com/events/the-rumble-2024/
SUMMARY:The Rumble 2024
DESCRIPTION:Tickets\n\nTickets\n\nTickets\n\n\nThe Rumble 2024 two day pass
  ticket. 17 and over. Rain or Shine. bands subject to change. Friday doors
  open at 3pm and show starts at 4pm. Saturday doors open at 12pm and show 
 starts at 1pm. Cobra Lounge Parking Lot.\n\nPresented by Empire Production
 s.\n\nThis is a 17+ event.\n\nLineup\nDoors open ― 3:00 PM\nNo Friend Of
  Mine\nglass ox\nFuerza Bruta\nOutta Pocket\nTorture\nTwo Witnesses\nViole
 nt Way\nTrain of Thought\nMorbid Visionz\nIngrown\nHold My Own\nWaking the
  Cadaver\nGates To Hell\nBulldoze\nConservative Military Image\nModern Lif
 e is War\nFrozen Soul\nWeekend Nachos\nThe Hope Conspiracy\nPISS ANT\nGame
  Of Death\n\n\nTickets\nGeneral Admission - 2 Day Pass ― $115.36\n\n\nht
 tps://www.facebook.com/events/7722446977872280
ATTACH;FMTTYPE=image/jpeg:https://thecmf.com/wp-content/uploads/2024/03/45
 0783257_18314315194199846_7267252881346210253_n.jpg
CATEGORIES:17+
LOCATION:Cobra Lounge\, 235 N Ashland Ave\, Chicago\, Illinois\, 60607\, Un
 ited States
GEO:41.886381;-87.666786
X-APPLE-STRUCTURED-LOCATION;VALUE=URI;X-ADDRESS=235 N Ashland Ave\, Chicago
 \, Illinois\, 60607\, United States;X-APPLE-RADIUS=100;X-TITLE=Cobra Loung
 e:geo:41.886381,-87.666786
END:VEVENT
BEGIN:VTIMEZONE
TZID:America/Chicago
X-LIC-LOCATION:America/Chicago
BEGIN:DAYLIGHT
DTSTART:20240310T030000
TZOFFSETFROM:-0600
TZOFFSETTO:-0500
TZNAME:CDT
END:DAYLIGHT
END:VTIMEZONE
END:VCALENDAR