BEGIN:VCALENDAR
VERSION:2.0
PRODID:-//wp-events-plugin.com//7.2.3.1//EN
TZID:America/Chicago
X-WR-TIMEZONE:America/Chicago
BEGIN:VEVENT
UID:16969@thecmf.com
DTSTART;TZID=America/Chicago:20260425T200000
DTEND;TZID=America/Chicago:20260425T200000
DTSTAMP:20260420T182313Z
URL:https://thecmf.com/events/the-rising-fall-metalation-fierce-atmosphere
 s/
SUMMARY:THE RISING FALL\, METALATION\, FIERCE ATMOSPHERES
DESCRIPTION:
ATTACH;FMTTYPE=image/jpeg:https://thecmf.com/wp-content/uploads/2026/04/04
 25jj.jpg
CATEGORIES:21+
LOCATION:J J Kelley's\, 2455 Bernice Rd\, Lansing\, Illinois\, 60438\, Unit
 ed States
GEO:41.579216;-87.556653
X-APPLE-STRUCTURED-LOCATION;VALUE=URI;X-ADDRESS=2455 Bernice Rd\, Lansing\,
  Illinois\, 60438\, United States;X-APPLE-RADIUS=100;X-TITLE=J J Kelley's:
 geo:41.579216,-87.556653
END:VEVENT
BEGIN:VTIMEZONE
TZID:America/Chicago
X-LIC-LOCATION:America/Chicago
BEGIN:DAYLIGHT
DTSTART:20260308T030000
TZOFFSETFROM:-0600
TZOFFSETTO:-0500
TZNAME:CDT
END:DAYLIGHT
END:VTIMEZONE
END:VCALENDAR