BEGIN:VCALENDAR
VERSION:2.0
PRODID:-//wp-events-plugin.com//7.2.3.1//EN
TZID:America/Chicago
X-WR-TIMEZONE:America/Chicago
BEGIN:VEVENT
UID:16777@thecmf.com
DTSTART;TZID=America/Chicago:20260501T180000
DTEND;TZID=America/Chicago:20260501T180000
DTSTAMP:20260226T235402Z
URL:https://thecmf.com/events/the-effigies-paperboy-riot-sushi-reely-big-m
 oose-tyre-fyre/
SUMMARY:THE EFFIGIES\, PAPERBOY RIOT\, SUSHI\, REELY BIG MOOSE\, TŸRE FŸR
 E
DESCRIPTION:THE EFFIGIESPAPERBOY RIOTSUSHIREELY BIG MOOSETŸRE FŸRE\nDOOR 
 6pm / $15 / ALL AGESMUSIC 8pm / 21+ DrinkTix at door only
ATTACH;FMTTYPE=image/jpeg:https://thecmf.com/wp-content/uploads/2026/02/05
 01CEMITAS.jpg
CATEGORIES:All Ages
LOCATION:Cemitas Poblanas\, 345 W North Ave\, Villa Park\, Illinois\, 60181
 \, United States
GEO:41.90497;-87.986794
X-APPLE-STRUCTURED-LOCATION;VALUE=URI;X-ADDRESS=345 W North Ave\, Villa Par
 k\, Illinois\, 60181\, United States;X-APPLE-RADIUS=100;X-TITLE=Cemitas Po
 blanas:geo:41.90497,-87.986794
END:VEVENT
BEGIN:VTIMEZONE
TZID:America/Chicago
X-LIC-LOCATION:America/Chicago
BEGIN:DAYLIGHT
DTSTART:20260308T030000
TZOFFSETFROM:-0600
TZOFFSETTO:-0500
TZNAME:CDT
END:DAYLIGHT
END:VTIMEZONE
END:VCALENDAR