BEGIN:VCALENDAR
VERSION:2.0
PRODID:-//wp-events-plugin.com//7.2.3.1//EN
TZID:America/Chicago
X-WR-TIMEZONE:America/Chicago
BEGIN:VEVENT
UID:16632@thecmf.com
DTSTART;TZID=America/Chicago:20260619T200000
DTEND;TZID=America/Chicago:20260619T200000
DTSTAMP:20260119T081239Z
URL:https://thecmf.com/events/stryper-6/
SUMMARY:STRYPER
DESCRIPTION:\nSTRYPER\n\n\nJune 19 @ 8:00 pm\n\n\n\n\n\nAfter four decades 
 of producing\, recording and performing high-caliber music\, prolific rock
  foursome Stryper continues to relentlessly show itself as a renewed force
  with unquenchable firepower. In addition to kicking off an ambitious 40th
  anniversary tour in fall of 2024\, the group releases its 16th studio pro
 ject\, the triumphant When We Were Kings (Frontiers Music Srl)\, on Septem
 ber 13\, 2024. When it comes to groundbreaking bands in the Christian hard
 -rock genre\, Stryper is renowned for its trademark style of “heavenly m
 etal\,” remarkable crossover success and venerable endurance. The group 
 ascended to prominence in the 1980s with Billboard Top 40 hits like “Cal
 ling on You\,” “Honestly” and “Always There for You.” Today\, ov
 er 40 years after emerging from the southern California nightclub scene\, 
 Stryper continues to record\, tour and perform for devoted fans around the
  globe. Comprising three original members including brothers Michael Sweet
  (lead vocals\, guitar) and Robert Sweet (drums)\, Oz Fox (guitar) and new
 est bandmate\, veteran bassist Perry Richardson (formerly of Firehouse)\, 
 the group finds itself continuing to create their finest\, most commanding
  music yet.\nBuy Now\n\n\n\n\nAdd to calendar\n\n\n\nBuy Tickets\n\n\nDeta
 ils\n\n 	Date:June 19\n 	Time:\n8:00 pm\n 	Event Categories:Hard Rock\, H
 eavy Metal\, Rock Music\n\n\n\nVenue\n\n 	Arcada Theatre\n 	105 E Main St
 \nSt. Charles\, IL 60174 United States\n\n\n\n
ATTACH;FMTTYPE=image/jpeg:https://thecmf.com/wp-content/uploads/2026/01/St
 ryper-web-2.png.webp
CATEGORIES:All Ages
LOCATION:Arcada Theatre\, 105 E Main St\, Saint Charles\, Illinois\, 60174\
 , United States
GEO:41.916953;-88.294768
X-APPLE-STRUCTURED-LOCATION;VALUE=URI;X-ADDRESS=105 E Main St\, Saint Charl
 es\, Illinois\, 60174\, United States;X-APPLE-RADIUS=100;X-TITLE=Arcada Th
 eatre:geo:41.916953,-88.294768
END:VEVENT
BEGIN:VTIMEZONE
TZID:America/Chicago
X-LIC-LOCATION:America/Chicago
BEGIN:DAYLIGHT
DTSTART:20260308T030000
TZOFFSETFROM:-0600
TZOFFSETTO:-0500
TZNAME:CDT
END:DAYLIGHT
END:VTIMEZONE
END:VCALENDAR