BEGIN:VCALENDAR
VERSION:2.0
PRODID:-//wp-events-plugin.com//7.2.3.1//EN
TZID:America/Chicago
X-WR-TIMEZONE:America/Chicago
BEGIN:VEVENT
UID:14676@thecmf.com
DTSTART;TZID=America/Chicago:20250711T183000
DTEND;TZID=America/Chicago:20250711T183000
DTSTAMP:20250216T035222Z
URL:https://thecmf.com/events/steve-augeri/
SUMMARY:STEVE AUGERI
DESCRIPTION:Tickets\nJOURNEY FORMER LEAD VOCALIST STEVE AUGERI\nJuly 11 @ 8
 :00 pm\nhttps://www.facebook.com/events/8827735963939178\nhttps://www.arca
 dalive.com/event/journey-former-lead-vocalist-steve-augeri/\nhttps://oshow
 s.com/event/journey-former-lead-vocalist-steve-augeri/
ATTACH;FMTTYPE=image/jpeg:https://thecmf.com/wp-content/uploads/2024/12/46
 7294328_984183500414139_6093986274229146615_n.jpg
CATEGORIES:All Ages
LOCATION:Arcada Theatre\, 105 E Main St\, Saint Charles\, Illinois\, 60174\
 , United States
GEO:41.916953;-88.294768
X-APPLE-STRUCTURED-LOCATION;VALUE=URI;X-ADDRESS=105 E Main St\, Saint Charl
 es\, Illinois\, 60174\, United States;X-APPLE-RADIUS=100;X-TITLE=Arcada Th
 eatre:geo:41.916953,-88.294768
END:VEVENT
BEGIN:VTIMEZONE
TZID:America/Chicago
X-LIC-LOCATION:America/Chicago
BEGIN:DAYLIGHT
DTSTART:20250309T030000
TZOFFSETFROM:-0600
TZOFFSETTO:-0500
TZNAME:CDT
END:DAYLIGHT
END:VTIMEZONE
END:VCALENDAR