BEGIN:VCALENDAR
VERSION:2.0
PRODID:-//wp-events-plugin.com//7.2.3.1//EN
TZID:America/Chicago
X-WR-TIMEZONE:America/Chicago
BEGIN:VEVENT
UID:16765@thecmf.com
DTSTART;TZID=America/Chicago:20260516T183000
DTEND;TZID=America/Chicago:20260516T183000
DTSTAMP:20260225T072450Z
URL:https://thecmf.com/events/spiritworld-roman-candle-doomsday/
SUMMARY:SPIRITWORLD\, ROMAN CANDLE\, DOOMSDAY
DESCRIPTION:SpiritWorld in the Rock Club on Saturday\, May 16th with Roman 
 Candle and Doomsday!\nTickets: https://www.reggieslive.com/show/spiritworl
 d/\n\n
ATTACH;FMTTYPE=image/jpeg:https://thecmf.com/wp-content/uploads/2026/02/05
 16reggies-1.jpg
CATEGORIES:17+
LOCATION:Reggies Rock Club\, 2109 S State St\, Chicago\, Illinois\, 60616\,
  United States
GEO:41.853951;-87.62679
X-APPLE-STRUCTURED-LOCATION;VALUE=URI;X-ADDRESS=2109 S State St\, Chicago\,
  Illinois\, 60616\, United States;X-APPLE-RADIUS=100;X-TITLE=Reggies Rock 
 Club:geo:41.853951,-87.62679
END:VEVENT
BEGIN:VTIMEZONE
TZID:America/Chicago
X-LIC-LOCATION:America/Chicago
BEGIN:DAYLIGHT
DTSTART:20260308T030000
TZOFFSETFROM:-0600
TZOFFSETTO:-0500
TZNAME:CDT
END:DAYLIGHT
END:VTIMEZONE
END:VCALENDAR