BEGIN:VCALENDAR
VERSION:2.0
PRODID:-//wp-events-plugin.com//7.2.3.1//EN
TZID:America/Chicago
X-WR-TIMEZONE:America/Chicago
BEGIN:VEVENT
UID:16750@thecmf.com
DTSTART;TZID=America/Chicago:20260527T183000
DTEND;TZID=America/Chicago:20260527T183000
DTSTAMP:20260219T184550Z
URL:https://thecmf.com/events/spineshank-hed-p-e-primer-55-oceans-on-other
 -planets/
SUMMARY:SPINESHANK\, (HED) P.E.\, PRIMER 55\, OCEANS ON OTHER PLANETS
DESCRIPTION:\nNU METAL SUCKS TOUR\n\n\nSpineshank\n(hed) p.e.\nPrimer 55\nO
 ceans On Other Planets\n\n\nMay 27th\, 2026\ntickets: https://tinyurl.com/
 363c3n9z\n\n\n
ATTACH;FMTTYPE=image/jpeg:https://thecmf.com/wp-content/uploads/2026/02/05
 27forge.jpg
CATEGORIES:All Ages
LOCATION:The Forge\, 22 W Cass St\, Joliet\, Illinois\, 60432\, United Stat
 es
GEO:41.52764;-88.082067
X-APPLE-STRUCTURED-LOCATION;VALUE=URI;X-ADDRESS=22 W Cass St\, Joliet\, Ill
 inois\, 60432\, United States;X-APPLE-RADIUS=100;X-TITLE=The Forge:geo:41.
 52764,-88.082067
END:VEVENT
BEGIN:VTIMEZONE
TZID:America/Chicago
X-LIC-LOCATION:America/Chicago
BEGIN:DAYLIGHT
DTSTART:20260308T030000
TZOFFSETFROM:-0600
TZOFFSETTO:-0500
TZNAME:CDT
END:DAYLIGHT
END:VTIMEZONE
END:VCALENDAR