BEGIN:VCALENDAR
VERSION:2.0
PRODID:-//wp-events-plugin.com//7.2.3.1//EN
TZID:America/Chicago
X-WR-TIMEZONE:America/Chicago
BEGIN:VEVENT
UID:16905@thecmf.com
DTSTART;TZID=America/Chicago:20260502T160000
DTEND;TZID=America/Chicago:20260502T160000
DTSTAMP:20260401T033313Z
URL:https://thecmf.com/events/southside-rokeros/
SUMMARY:Southside Rokeros
DESCRIPTION:
ATTACH;FMTTYPE=image/jpeg:https://thecmf.com/wp-content/uploads/2026/03/05
 02ALLEGIANCE.jpg
CATEGORIES:21+
LOCATION:One Allegiance Brewing\, 10215 S Harlem Ave\, Chicago Ridge\, Illi
 nois\, 60415\, United States
X-APPLE-STRUCTURED-LOCATION;VALUE=URI;X-ADDRESS=10215 S Harlem Ave\, Chicag
 o Ridge\, Illinois\, 60415\, United States;X-APPLE-RADIUS=100;X-TITLE=One 
 Allegiance Brewing:geo:0,0
END:VEVENT
BEGIN:VTIMEZONE
TZID:America/Chicago
X-LIC-LOCATION:America/Chicago
BEGIN:DAYLIGHT
DTSTART:20260308T030000
TZOFFSETFROM:-0600
TZOFFSETTO:-0500
TZNAME:CDT
END:DAYLIGHT
END:VTIMEZONE
END:VCALENDAR