BEGIN:VCALENDAR
VERSION:2.0
PRODID:-//wp-events-plugin.com//7.2.3.1//EN
TZID:America/Chicago
X-WR-TIMEZONE:America/Chicago
BEGIN:VEVENT
UID:16965@thecmf.com
DTSTART;TZID=America/Chicago:20260423T183000
DTEND;TZID=America/Chicago:20260423T183000
DTSTAMP:20260416T034149Z
URL:https://thecmf.com/events/snag-viscacha-lovergirl-the-world-in-broken-
 glass-what-it-felt-like/
SUMMARY:SNAG\, VISCACHA\, LOVERGIRL\, THE WORLD IN BROKEN GLASS\, WHAT IT F
 ELT LIKE
DESCRIPTION:
ATTACH;FMTTYPE=image/jpeg:https://thecmf.com/wp-content/uploads/2026/04/67
 0308650_17986863383968463_1634697790901447516_n.jpg
CATEGORIES:All Ages
LOCATION:Empty Bliss\, Msg band/venue booking host\, Chicago\, Illinois\, U
 nited States
X-APPLE-STRUCTURED-LOCATION;VALUE=URI;X-ADDRESS=Msg band/venue booking host
 \, Chicago\, Illinois\, United States;X-APPLE-RADIUS=100;X-TITLE=Empty Bli
 ss:geo:0,0
END:VEVENT
BEGIN:VTIMEZONE
TZID:America/Chicago
X-LIC-LOCATION:America/Chicago
BEGIN:DAYLIGHT
DTSTART:20260308T030000
TZOFFSETFROM:-0600
TZOFFSETTO:-0500
TZNAME:CDT
END:DAYLIGHT
END:VTIMEZONE
END:VCALENDAR