BEGIN:VCALENDAR
VERSION:2.0
PRODID:-//wp-events-plugin.com//7.2.3.1//EN
TZID:America/Chicago
X-WR-TIMEZONE:America/Chicago
BEGIN:VEVENT
UID:16605@thecmf.com
DTSTART;TZID=America/Chicago:20260425T190000
DTEND;TZID=America/Chicago:20260425T190000
DTSTAMP:20260117T083900Z
URL:https://thecmf.com/events/slomosa/
SUMMARY:SLOMOSA
DESCRIPTION:\nTICKETS\n\nSLOMOSA\n\n\n\nHailing from the rugged landscapes 
 of western Norway\, Slomosa has emerged as a powerhouse in modern rock\, d
 eveloping their signature Tundra Rock sound. Comprising Benjamin Berdous (
 guitar\, vocals)\, Marie Moe (bass\, vocals)\, Tor Erik Bye (guitar)\, and
  Jard Hole (drums)\, and drawing inspiration from \, and \, the band fuses
  the heavy\, groove-laden riffs of stoner rock with raw\, melodic vocals a
 nd thunderous guitars.\n\nSince the release of their self-titled debut alb
 um in 2020\, Slomosa has become synonymous with raw power and electrifying
  performances. They’ve conquered major festival stages at Hell Fest\, Fr
 eak Valley\, and Bergen Fest\, earning accolades for their ability to igni
 te crowds with their relentless energy and infectious sound. In July 2023\
 , the band released Cabin Fever\, a thunderous single from their highly an
 ticipated sophomore album\, showcasing their knack for gritty storytelling
  and soaring riffs.\n\nIn 2024\, Slomosa plus brought their massive sound 
 stateside\, joining Alkaline... [read more]\n\n\n\n\n\n\n 	Band Website\n
  	Spotify\n 	Facebook\n 	Instagram\n\n\nTBA\n\n\n\n\n 	7:00 pm Doors\n 	8:
 00 pm Show\n 	17+\n 	FB Event\n\n\n
ATTACH;FMTTYPE=image/jpeg:https://thecmf.com/wp-content/uploads/2026/01/4_
 25_Slomosa.jpeg
CATEGORIES:17+
LOCATION:Reggies Rock Club\, 2109 S State St\, Chicago\, Illinois\, 60616\,
  United States
GEO:41.853951;-87.62679
X-APPLE-STRUCTURED-LOCATION;VALUE=URI;X-ADDRESS=2109 S State St\, Chicago\,
  Illinois\, 60616\, United States;X-APPLE-RADIUS=100;X-TITLE=Reggies Rock 
 Club:geo:41.853951,-87.62679
END:VEVENT
BEGIN:VTIMEZONE
TZID:America/Chicago
X-LIC-LOCATION:America/Chicago
BEGIN:DAYLIGHT
DTSTART:20260308T030000
TZOFFSETFROM:-0600
TZOFFSETTO:-0500
TZNAME:CDT
END:DAYLIGHT
END:VTIMEZONE
END:VCALENDAR