BEGIN:VCALENDAR
VERSION:2.0
PRODID:-//wp-events-plugin.com//7.2.3.1//EN
TZID:America/Chicago
X-WR-TIMEZONE:America/Chicago
BEGIN:VEVENT
UID:16802@thecmf.com
DTSTART;TZID=America/Chicago:20260424T193000
DTEND;TZID=America/Chicago:20260424T193000
DTSTAMP:20260302T234141Z
URL:https://thecmf.com/events/sabbath-4/
SUMMARY:SABBATH
DESCRIPTION:\n\n\n\n\n\n\n\n\n\n\n\n\n\n\n\ntickets\n\n\n\n\n\n\n\nThe Recr
 eation of Black Sabbath &amp\; OZZY !\n\n\n
ATTACH;FMTTYPE=image/jpeg:https://thecmf.com/wp-content/uploads/2026/03/64
 2960206_1619643785866337_1197958241012895645_n.jpg
CATEGORIES:All Ages
LOCATION:Arcada Theatre\, 105 E Main St\, Saint Charles\, Illinois\, 60174\
 , United States
GEO:41.916953;-88.294768
X-APPLE-STRUCTURED-LOCATION;VALUE=URI;X-ADDRESS=105 E Main St\, Saint Charl
 es\, Illinois\, 60174\, United States;X-APPLE-RADIUS=100;X-TITLE=Arcada Th
 eatre:geo:41.916953,-88.294768
END:VEVENT
BEGIN:VTIMEZONE
TZID:America/Chicago
X-LIC-LOCATION:America/Chicago
BEGIN:DAYLIGHT
DTSTART:20260308T030000
TZOFFSETFROM:-0600
TZOFFSETTO:-0500
TZNAME:CDT
END:DAYLIGHT
END:VTIMEZONE
END:VCALENDAR