BEGIN:VCALENDAR
VERSION:2.0
PRODID:-//wp-events-plugin.com//7.2.3.1//EN
TZID:America/Chicago
X-WR-TIMEZONE:America/Chicago
BEGIN:VEVENT
UID:16992@thecmf.com
DTSTART;TZID=America/Chicago:20260530T190000
DTEND;TZID=America/Chicago:20260530T190000
DTSTAMP:20260422T024338Z
URL:https://thecmf.com/events/rose-of-demise-beheading-the-icon-stolen-sun
 -tanzen-southarsenal/
SUMMARY:ROSE OF DEMISE\, BEHEADING THE ICON\, STOLEN SUN\, TANZEN\, SOUTHA
 RSENAL
DESCRIPTION:\n\n\n\n\nBeheading The Icon  Stolen Sun TANZEN and southarsen
 al\n\n\n\n\n\n
ATTACH;FMTTYPE=image/jpeg:https://thecmf.com/wp-content/uploads/2026/04/67
 0413467_18022875902811739_1519181525169608481_n.jpg
CATEGORIES:17+
LOCATION:Cobra Lounge\, 235 N Ashland Ave\, Chicago\, Illinois\, 60607\, Un
 ited States
GEO:41.886381;-87.666786
X-APPLE-STRUCTURED-LOCATION;VALUE=URI;X-ADDRESS=235 N Ashland Ave\, Chicago
 \, Illinois\, 60607\, United States;X-APPLE-RADIUS=100;X-TITLE=Cobra Loung
 e:geo:41.886381,-87.666786
END:VEVENT
BEGIN:VTIMEZONE
TZID:America/Chicago
X-LIC-LOCATION:America/Chicago
BEGIN:DAYLIGHT
DTSTART:20260308T030000
TZOFFSETFROM:-0600
TZOFFSETTO:-0500
TZNAME:CDT
END:DAYLIGHT
END:VTIMEZONE
END:VCALENDAR