BEGIN:VCALENDAR
VERSION:2.0
PRODID:-//wp-events-plugin.com//7.2.3.1//EN
TZID:America/Chicago
X-WR-TIMEZONE:America/Chicago
BEGIN:VEVENT
UID:16920@thecmf.com
DTSTART;TZID=America/Chicago:20260425T120000
DTEND;TZID=America/Chicago:20260425T120000
DTSTAMP:20260406T183034Z
URL:https://thecmf.com/events/rise-up-food-music-fest/
SUMMARY:RISE UP: Food & Music Fest
DESCRIPTION:\n\n Featuring: Alenia\, Mictlan HC\, Magmahxc\, @Crashout_
 hc\,imperfections.band\, @papercardinal\, @rebelandcleric @emb.ina @charmi
 ngritual   : @khaos.forever + @dj_enzerio Featuring a market of vendors\,
  vegan &amp\; cruelty free street food\, art\, tattooing\, live music\, li
 ve interviews\, meet &amp\; greet with all the bands\, &amp\; nearly 12 ho
 urs of the best kind of chaos. Incorporating an entire variety of genres i
 ncluding Metal\, Punk\, Hardcore\, Rock\, Darkwave\, House\, Cumbia\, &amp
 \; more. Supporting the cause &amp\; supporting a highlight of Chicago’s
  Underground.: TAKING STAGE at Mindful Baking + Hidden Light Tattoo [ 
 multi-roomed warehouse setting. Pull up. Turn up. Respect the space. ]• 
 4201 N.RAVENSWOOD | ALL AGES• MARKET: 11 AM- 3PM + PERFORMANCES: 12PM-1O
 PM• $15.00 SUGGESTIONED DONATION @ Door
ATTACH;FMTTYPE=image/jpeg:https://thecmf.com/wp-content/uploads/2026/04/ri
 seup-1.jpg
CATEGORIES:All Ages
LOCATION:Mindful Baking\, 4201 N.RAVENSWOOD\, Chicago\, United States
GEO:41.958122;-87.673635
X-APPLE-STRUCTURED-LOCATION;VALUE=URI;X-ADDRESS=4201 N.RAVENSWOOD\, Chicago
 \, United States;X-APPLE-RADIUS=100;X-TITLE=Mindful Baking:geo:41.958122,-
 87.673635
END:VEVENT
BEGIN:VTIMEZONE
TZID:America/Chicago
X-LIC-LOCATION:America/Chicago
BEGIN:DAYLIGHT
DTSTART:20260308T030000
TZOFFSETFROM:-0600
TZOFFSETTO:-0500
TZNAME:CDT
END:DAYLIGHT
END:VTIMEZONE
END:VCALENDAR