BEGIN:VCALENDAR
VERSION:2.0
PRODID:-//wp-events-plugin.com//7.2.3.1//EN
TZID:America/Chicago
X-WR-TIMEZONE:America/Chicago
BEGIN:VEVENT
UID:14635@thecmf.com
DTSTART;TZID=America/Chicago;VALUE=DATE:20250919
DTEND;TZID=America/Chicago;VALUE=DATE:20250922
DTSTAMP:20250708T232456Z
URL:https://thecmf.com/events/riot-fest-2025/
SUMMARY:Riot Fest 2025
DESCRIPTION:\n\nTickets\nRIOT FEST 2025\nThe 20th Anniversary of Riot Fest.
 \nSeptember 19\, 20\, 21\, 2025\nDouglass Park\, Chicago\, IL\n\nGreen Day
 \, Blink-182\, Weezer\, Jack White\, “Weird Al” Yankovic\, Sex Pistols
 \, IDLES\, Alkaline Trio\, All Time Low\, Rilo Kiley\, Knocked Loose\, The
  Beach Boys\, Jawbreaker\, Dropkick Murphys\, Bad Religion\, The Pogues\, 
 The Hold Steady\, The Front Bottoms\, The Academy Is…\, Cobra Starship\,
  Gym Class Heroes\, Texas Is The Reason\, Knuckle Puck\, The Wonder Years\
 , James\, Sparks\, Dance Hall Crashers\, Hanson\, The Bouncing Souls\, The
  Damned\, Inhaler\, Rico Nasty\, Screeching Weasel\, Citizen\, Senses Fail
 \, Microwave\, Free Throw\, DEHD\, The Linda Lindas\, Panchiko\, Buzzcocks
 \, Stiff Little Fingers\, Superchuck\, Militarie Gun\, The Cribs\, Shudder
  To Think\, Helmet\, Touché Amoré\, Pegboy\, Honey Revenge\, Marky Ramon
 e\, The Ataris\, Camper Van Beethoven\, Marianas Trench\, The Didjits\, Ag
 nostic Front\, Thrown\, Lambrini Girls\, Ovlov\, Soft Play\, Smoking Popes
 \, Puddles Pity Party\, H2O\, Julia Wolf\, Violent Vira\, Delta Sleep\, Ma
 c Sabbath\, Chase Petra\, Wishy\, The Effigies\, Harrison Gordon\, Samiam\
 , The Tossers\, Shonen Knife\, Zero Boys\, Speed of Light\, The Paradox\, 
 The Barbarians of California\, Girl In A Coma\, Agent Orange\, Quannnic\, 
 Weakened Friends\, Dune Rats\, Footballhead\, Big Ass Truck IE\, Cliffdive
 r\, Loviet\, Emo Philips\nhttps://www.facebook.com/events/1284189482679788
 \nhttps://riotfest.org/\n\n\n\n\n\n
ATTACH;FMTTYPE=image/jpeg:https://thecmf.com/wp-content/uploads/2024/12/49
 2551638_1091802309650840_8517056540513539885_n.jpg
CATEGORIES:All Ages
LOCATION:Douglass Park\, 1401 S Sacramento Dr\, Chicago\, Illinois\, 60623\
 , United States
GEO:41.863235;-87.702048
X-APPLE-STRUCTURED-LOCATION;VALUE=URI;X-ADDRESS=1401 S Sacramento Dr\, Chic
 ago\, Illinois\, 60623\, United States;X-APPLE-RADIUS=100;X-TITLE=Douglass
  Park:geo:41.863235,-87.702048
END:VEVENT
BEGIN:VTIMEZONE
TZID:America/Chicago
X-LIC-LOCATION:America/Chicago
BEGIN:DAYLIGHT
DTSTART:20250309T030000
TZOFFSETFROM:-0600
TZOFFSETTO:-0500
TZNAME:CDT
END:DAYLIGHT
END:VTIMEZONE
END:VCALENDAR