BEGIN:VCALENDAR
VERSION:2.0
PRODID:-//wp-events-plugin.com//7.2.3.1//EN
TZID:America/Chicago
X-WR-TIMEZONE:America/Chicago
BEGIN:VEVENT
UID:16998@thecmf.com
DTSTART;TZID=America/Chicago:20260530T173000
DTEND;TZID=America/Chicago:20260530T173000
DTSTAMP:20260422T033108Z
URL:https://thecmf.com/events/reign-in-blood-sandblasted-skin-megatallica-
 after-forever-the-rise-of-brutality/
SUMMARY:REIGN IN BLOOD\, SANDBLASTED SKIN\, MEGATALLICA\, AFTER FOREVER\, T
 HE RISE OF BRUTALITY
DESCRIPTION:REIGN IN BLOOD takes over The Forge May 30 A full night of met
 al tributes honoring the legends — loud\, fast\, and unapologetic.\nSand
 blasted Skin (Pantera)\, MegaTallica (Megadeth/Metallica)\, The Rise Of Br
 utality (Hatebreed)\, After Forever (Black Sabbath)Doors 5:30PM\n
ATTACH;FMTTYPE=image/jpeg:https://thecmf.com/wp-content/uploads/2026/04/05
 30forge.jpg
CATEGORIES:All Ages
LOCATION:The Forge\, 22 W Cass St\, Joliet\, Illinois\, 60432\, United Stat
 es
GEO:41.52764;-88.082067
X-APPLE-STRUCTURED-LOCATION;VALUE=URI;X-ADDRESS=22 W Cass St\, Joliet\, Ill
 inois\, 60432\, United States;X-APPLE-RADIUS=100;X-TITLE=The Forge:geo:41.
 52764,-88.082067
END:VEVENT
BEGIN:VTIMEZONE
TZID:America/Chicago
X-LIC-LOCATION:America/Chicago
BEGIN:DAYLIGHT
DTSTART:20260308T030000
TZOFFSETFROM:-0600
TZOFFSETTO:-0500
TZNAME:CDT
END:DAYLIGHT
END:VTIMEZONE
END:VCALENDAR