BEGIN:VCALENDAR
VERSION:2.0
PRODID:-//wp-events-plugin.com//7.2.3.1//EN
TZID:America/Chicago
X-WR-TIMEZONE:America/Chicago
BEGIN:VEVENT
UID:16797@thecmf.com
DTSTART;TZID=America/Chicago:20260526T183000
DTEND;TZID=America/Chicago:20260526T183000
DTSTAMP:20260302T231729Z
URL:https://thecmf.com/events/red-ra-kingdom-collapse-twist-it/
SUMMARY:RED\, RA\, KINGDOM COLLAPSE\, TWIST IT
DESCRIPTION:RED – End of Silence 20th Anniversary Tour\nwith special gues
 ts RA\, Kingdom Collapse &amp\; TWIST IT\nhttps://tinyurl.com/2nymvn6y\n
ATTACH;FMTTYPE=image/jpeg:https://thecmf.com/wp-content/uploads/2026/03/05
 26forge.jpg
CATEGORIES:All Ages
LOCATION:The Forge\, 22 W Cass St\, Joliet\, Illinois\, 60432\, United Stat
 es
GEO:41.52764;-88.082067
X-APPLE-STRUCTURED-LOCATION;VALUE=URI;X-ADDRESS=22 W Cass St\, Joliet\, Ill
 inois\, 60432\, United States;X-APPLE-RADIUS=100;X-TITLE=The Forge:geo:41.
 52764,-88.082067
END:VEVENT
BEGIN:VTIMEZONE
TZID:America/Chicago
X-LIC-LOCATION:America/Chicago
BEGIN:DAYLIGHT
DTSTART:20260308T030000
TZOFFSETFROM:-0600
TZOFFSETTO:-0500
TZNAME:CDT
END:DAYLIGHT
END:VTIMEZONE
END:VCALENDAR