BEGIN:VCALENDAR
VERSION:2.0
PRODID:-//wp-events-plugin.com//7.2.3.1//EN
TZID:America/Chicago
X-WR-TIMEZONE:America/Chicago
BEGIN:VEVENT
UID:8850@thecmf.com
DTSTART;TZID=America/Chicago:20201030T190000
DTEND;TZID=America/Chicago:20201031T230000
DTSTAMP:20201029T063004Z
URL:https://thecmf.com/events/putrid-pile-crusadist-self-imposed-exile-gau
 nt-mandatory-abortions-pit-lord-the-hatred-embrace-psycobilly-death-clowns
 -luna-in-sanguinem/
SUMMARY:Halloween Hellfest
DESCRIPTION:\nHalloween Hellfest\nNight 1\nDue to the new restrictions from
  Governor of the state of Illinois Event has been changed to a 2 night eve
 nt due to limited capacity restrictions beginning on Saturday October 31.\
 nAll Ages Event\n$10 Door Ticket\nDoors Open at 7:00 PM\nages 21 and Over 
 Drink with ID\nPrizes will be awarded to best costumes Friday night only.\
 nCunning Like Cobras -\nLuna In Sanguinem - Spring Grove Death/Thrash\nOve
 rlords - Round Lake Stoner Metal\nThe Hatred Embrace - Keno Death Metal\n\
 n\nHalloween Hellfest\nAll ages 2 day music festival day 2\n$10 Door Ticke
 t\n21 and Over Drink with ID\nDoors Open at 7:30PM First band at 8PM\nToxi
 c Ruin - Sheboygan\, WI 10:30PM\nPsychobilly Death Clowns - Chicago 9:30PM
 \nPitLord - Davenport\, IA 8:45 pM\nGaunt - Chicago\, WI. 8PM
LOCATION:Terminus Theatre\, 121 Grand Ave\, Lake Villa\, Illinois\, 60046\,
  United States
X-APPLE-STRUCTURED-LOCATION;VALUE=URI;X-ADDRESS=121 Grand Ave\, Lake Villa\
 , Illinois\, 60046\, United States;X-APPLE-RADIUS=100;X-TITLE=Terminus The
 atre:geo:0,0
END:VEVENT
BEGIN:VTIMEZONE
TZID:America/Chicago
X-LIC-LOCATION:America/Chicago
BEGIN:DAYLIGHT
DTSTART:20200308T030000
TZOFFSETFROM:-0600
TZOFFSETTO:-0500
TZNAME:CDT
END:DAYLIGHT
END:VTIMEZONE
END:VCALENDAR