BEGIN:VCALENDAR
VERSION:2.0
PRODID:-//wp-events-plugin.com//7.2.3.1//EN
TZID:America/Chicago
X-WR-TIMEZONE:America/Chicago
BEGIN:VEVENT
UID:16655@thecmf.com
DTSTART;TZID=America/Chicago:20260425T190000
DTEND;TZID=America/Chicago:20260425T190000
DTSTAMP:20260402T044728Z
URL:https://thecmf.com/events/puscifer-3/
SUMMARY:PUSCIFER
DESCRIPTION:Puscifer - The Normal Isn't Tour\n\nSat • Apr 25\, 2026 • 8
 :00 PM\nThe Chicago Theatre\, Chicago\, IL\nTICKETS\n
ATTACH;FMTTYPE=image/jpeg:https://thecmf.com/wp-content/uploads/2026/01/57
 0630122_1252052980283629_5505315111132283689_n.jpg
CATEGORIES:All Ages
LOCATION:The Chicago Theatre\, 175 N State St\, Chicago\, Illinois\, 60601\
 , United States
GEO:41.877521;-87.611233
X-APPLE-STRUCTURED-LOCATION;VALUE=URI;X-ADDRESS=175 N State St\, Chicago\, 
 Illinois\, 60601\, United States;X-APPLE-RADIUS=100;X-TITLE=The Chicago Th
 eatre:geo:41.877521,-87.611233
END:VEVENT
BEGIN:VTIMEZONE
TZID:America/Chicago
X-LIC-LOCATION:America/Chicago
BEGIN:DAYLIGHT
DTSTART:20260308T030000
TZOFFSETFROM:-0600
TZOFFSETTO:-0500
TZNAME:CDT
END:DAYLIGHT
END:VTIMEZONE
END:VCALENDAR