BEGIN:VCALENDAR
VERSION:2.0
PRODID:-//wp-events-plugin.com//7.2.3.1//EN
TZID:America/Chicago
X-WR-TIMEZONE:America/Chicago
BEGIN:VEVENT
UID:16923@thecmf.com
DTSTART;TZID=America/Chicago:20260611T180000
DTEND;TZID=America/Chicago:20260611T180000
DTSTAMP:20260406T223255Z
URL:https://thecmf.com/events/pat-travers-3/
SUMMARY:PAT TRAVERS
DESCRIPTION:&nbsp\;\n\n\n\n\n\nPat Travers Band\n\n\n\n\n\n\n\n\n\n\nBoom B
 oom\, out go the Lights on Thursdays\, June 11\, with the "Pat Travers Ban
 d\," plus "Counts 77!"\n\nBlues Rocker/Guitar God Pat Travers will take th
 e stage at 8 p.m. at Rock 'N Wheels. You know him for classics like "Snor
 tin' Whiskey\," "Crash and Burn\," and "Boom Boom Out Go the Lights." Trav
 ers – best known for slinging a 1964 double-cutaway\, double-humbucker G
 ibson Melody Maker – started his career in 1976. He has recorded over 30
  albums and is still laying down the licks in 2026!\n\n\nOpening the night
  on the 95.9 The River FM stage is TV celebrity Danny Koker from Counting 
 Cars\, with his Classic Rock band "Counts 77."  Danny Koker\, a custom ca
 r and bike builder\, will be walking the grounds and checking out the bike
 s.  Bring your hot rods and custom motorcycles on June 11.  Custom bikes
  can park on May Street\, adjacent to the event site. Hot rods can park at
  Green Meadow Shopping Center\, in the southernmost spots.\n\n\nIn additio
 n\, come witness the 4th and 5th generations of stunt motorcycle riders as
  they defy gravity in the Urius Family Globe of Death!\n\nErwin Urius's gr
 eat-grandfather built the world's first motorcycle globe of death in 1912 
 and their craft has now transcended into a fifth generation of family dare
 devils.\nThe Urius Globe of Death was the first to perform and tour with t
 he Ringling Bros. Circus\, and the first to feature female stunt riders.\n
 \nHow many motorcycles can fit in a 16-foot sphere and cheat death? Come a
 nd find out at their third appearance here in Addison at Rock 'N Wheels.\n
 \n\n\nAdmission is FREE.\n\n\n\n
ATTACH;FMTTYPE=image/jpeg:https://thecmf.com/wp-content/uploads/2026/04/ad
 disonsummer.jpg
CATEGORIES:All Ages
LOCATION:1 Friendship Plaza\, .\, Addison\, United States
GEO:32.96179;-96.829169
X-APPLE-STRUCTURED-LOCATION;VALUE=URI;X-ADDRESS=.\, Addison\, United States
 ;X-APPLE-RADIUS=100;X-TITLE=1 Friendship Plaza:geo:32.96179,-96.829169
END:VEVENT
BEGIN:VTIMEZONE
TZID:America/Chicago
X-LIC-LOCATION:America/Chicago
BEGIN:DAYLIGHT
DTSTART:20260308T030000
TZOFFSETFROM:-0600
TZOFFSETTO:-0500
TZNAME:CDT
END:DAYLIGHT
END:VTIMEZONE
END:VCALENDAR