BEGIN:VCALENDAR
VERSION:2.0
PRODID:-//wp-events-plugin.com//7.2.3.1//EN
TZID:America/Chicago
X-WR-TIMEZONE:America/Chicago
BEGIN:VEVENT
UID:16879@thecmf.com
DTSTART;TZID=America/Chicago:20260423T190000
DTEND;TZID=America/Chicago:20260423T210000
DTSTAMP:20260323T225845Z
URL:https://thecmf.com/events/ozzy-trivia-night/
SUMMARY:Ozzy trivia night
DESCRIPTION:\nFROM SOUNDGROWLER:\nJoin us for a fun night of trivia about r
 ock's favorite madman and Prince of Darkness\, Ozzy Osbourne! Questions wi
 ll cover his career in Black Sabbath\, his solo band\, and maybe one about
  his reality television show.\nIn order to participate\, you must purchase
  tickets in advance. At the event you will receive a coupon for the same a
 mount\, to be used on food\, drink\, or merchandise during the game.\nPat 
 Capone from Rock 95.5 will be around to help ask questions and interface w
 ith everybody!\nIn addition to great craft beer\, Soundgrowler has a kitch
 en with awesome tacos\, tortas\, and burritos\, so come hungry!\nThe top t
 hree teams will win gift card prizes to Soundgrowler.\n\n
ATTACH;FMTTYPE=image/jpeg:https://thecmf.com/wp-content/uploads/2026/03/65
 0766601_1492604582868775_1498089163999284491_n.jpg
CATEGORIES:21+
LOCATION:Soundgrowler Brewing Co.\, 8201 183rd St\, Tinley Park\, Illinois\
 , 60487\, United States
GEO:41.555992;-87.818513
X-APPLE-STRUCTURED-LOCATION;VALUE=URI;X-ADDRESS=8201 183rd St\, Tinley Park
 \, Illinois\, 60487\, United States;X-APPLE-RADIUS=100;X-TITLE=Soundgrowle
 r Brewing Co.:geo:41.555992,-87.818513
END:VEVENT
BEGIN:VTIMEZONE
TZID:America/Chicago
X-LIC-LOCATION:America/Chicago
BEGIN:DAYLIGHT
DTSTART:20260308T030000
TZOFFSETFROM:-0600
TZOFFSETTO:-0500
TZNAME:CDT
END:DAYLIGHT
END:VTIMEZONE
END:VCALENDAR