BEGIN:VCALENDAR
VERSION:2.0
PRODID:-//wp-events-plugin.com//7.2.3.1//EN
TZID:America/Chicago
X-WR-TIMEZONE:America/Chicago
BEGIN:VEVENT
UID:16989@thecmf.com
DTSTART;TZID=America/Chicago:20260426T163000
DTEND;TZID=America/Chicago:20260426T163000
DTSTAMP:20260422T022125Z
URL:https://thecmf.com/events/now-its-dark-moonside-pithec/
SUMMARY:NOW IT’S DARK\, MOONSIDE\, PITHEC
DESCRIPTION:Now it’s DarkMoonsidePithec\nApril 26thDoors 4:30 PMMusic 5:0
 0 PM\n
ATTACH;FMTTYPE=image/jpeg:https://thecmf.com/wp-content/uploads/2026/04/04
 266LIVEWIRE.jpg
CATEGORIES:21+
LOCATION:LiveWire Lounge\, 3394 N Milwaukee Ave\, Chicago\, Illinois\, 6064
 1\, United States
GEO:41.942821;-87.730414
X-APPLE-STRUCTURED-LOCATION;VALUE=URI;X-ADDRESS=3394 N Milwaukee Ave\, Chic
 ago\, Illinois\, 60641\, United States;X-APPLE-RADIUS=100;X-TITLE=LiveWire
  Lounge:geo:41.942821,-87.730414
END:VEVENT
BEGIN:VTIMEZONE
TZID:America/Chicago
X-LIC-LOCATION:America/Chicago
BEGIN:DAYLIGHT
DTSTART:20260308T030000
TZOFFSETFROM:-0600
TZOFFSETTO:-0500
TZNAME:CDT
END:DAYLIGHT
END:VTIMEZONE
END:VCALENDAR