BEGIN:VCALENDAR
VERSION:2.0
PRODID:-//wp-events-plugin.com//7.2.3.1//EN
TZID:America/Chicago
X-WR-TIMEZONE:America/Chicago
BEGIN:VEVENT
UID:16874@thecmf.com
DTSTART;TZID=America/Chicago:20260509T170000
DTEND;TZID=America/Chicago:20260509T170000
DTSTAMP:20260323T222712Z
URL:https://thecmf.com/events/negative-approach-lower-class-brats-noise-lo
 st-legion/
SUMMARY:NEGATIVE APPROACH\, LOWER CLASS BRATS\, NOI!SE\, LOST LEGION
DESCRIPTION:\nNEGATIVE APPROACH\, LOWER CLASS BRATS\, NOI!SE\, LOST LEGION\
 n\nshoot the moon fest\n\nSatMay092026\nEntry To Both Rooms With a Ticket\
 n\n\nNEGATIVE APPROACH\n\n\nNegative Approach is an American hardcore punk
  band\, formed in Detroit\, Michigan in 1981. The band is considered among
  of the pioneers of hardcore punk\, particularly in the Midwest region. Li
 ke most hardcore bands\, Negative Approach was little known in its day out
 side of its hometown. It is now idolized in the Detroit rock underground a
 nd the punk subculture\, considered to be one of the elite bands of the 
 “old school” era\, and continues to be influential\n\n\n\n\n 	Facebook
 \n\n\nLOWER CLASS BRATS\n\n\nLOWER CLASS BRATS have been pounding out thei
 r own brand of Clockwork Punk they have released a fuck-load of recordings
  including appearances on several compilations\, live DVD’s and soundtra
 cks in two different films (nudge\, nudge- wink\, wink). In the past decad
 e the BRATS have toured the globe. Mexico\, Germany\, North America\, Cana
 da\, England\, Japan\, France and many\, many other countries have witness
 ed the boys in action. And the LOWER CLASS BRATS don’t seem to be slowin
 g down any time soon. From their first gig over thirteen years ago\, to th
 is day…L.C.B. always steals the show.\n\n\n\n 	Band Website\n 	Facebook\
 n\n\nNOI!SE\n\n\nHailing from Tacoma\, Washington\, NOi!SE is one of the f
 lag bearers one of the new wave of Oi!. True to its name\, NOi!SE’s boun
 dless energy along with its unyielding message has allowed the band to bui
 ld a feverish and devoted fanbase.\nTrue to form\, the band’s new full-l
 ength “The Real Enemy” is undoubtedly going to be hailed as a timeless
  (musical) social commentary. Its raucous sound\, some equally profound ly
 rics\, and a really spectacular and fitting layout\, highlights what NOi!S
 E is all about. Complete with riveting drums\, insane bass lines\, great l
 eads\, and a true verbal assault\, this album reinforces that these guys r
 eally have something important to say\, and a unique and powerful way to d
 eliver it!\nBringing in some friends to help with the barrage\, the story 
 gets even more colorful\; with additional vocals on “SPD” by Gordy Car
 bone (THE FORGOTTEN)\, on “The War Inside” by THE INTERRUPTERS\, and o
 n the title track\, “The Real Enemy”\, by Al Barr (DROPKICK MURPHYS/TH
 E BRUISERS). With so... [read more]\n\n\n\n\n\n 	Spotify\n 	Facebook\n\n\
 nLOST LEGION\n\n\nTrue occultists praying at the altar of Oi. South Side C
 hicago.\n\n\n\n\n\n 	Spotify\n 	Instagram\n\n\n\n\n\n 	5:00 pm Doors\n 	6:
 00 pm Show\n 	17+\n 	FB Event\n\n\n
ATTACH;FMTTYPE=image/jpeg:https://thecmf.com/wp-content/uploads/2026/03/05
 09reggies.jpg
CATEGORIES:17+,21+
LOCATION:Reggies Rock Club\, 2109 S State St\, Chicago\, Illinois\, 60616\,
  United States
GEO:41.853951;-87.62679
X-APPLE-STRUCTURED-LOCATION;VALUE=URI;X-ADDRESS=2109 S State St\, Chicago\,
  Illinois\, 60616\, United States;X-APPLE-RADIUS=100;X-TITLE=Reggies Rock 
 Club:geo:41.853951,-87.62679
END:VEVENT
BEGIN:VTIMEZONE
TZID:America/Chicago
X-LIC-LOCATION:America/Chicago
BEGIN:DAYLIGHT
DTSTART:20260308T030000
TZOFFSETFROM:-0600
TZOFFSETTO:-0500
TZNAME:CDT
END:DAYLIGHT
END:VTIMEZONE
END:VCALENDAR