BEGIN:VCALENDAR
VERSION:2.0
PRODID:-//wp-events-plugin.com//7.2.3.1//EN
TZID:America/Chicago
X-WR-TIMEZONE:America/Chicago
BEGIN:VEVENT
UID:16810@thecmf.com
DTSTART;TZID=America/Chicago:20260502T130000
DTEND;TZID=America/Chicago:20260502T130000
DTSTAMP:20260303T064524Z
URL:https://thecmf.com/events/midwest-slam-fest/
SUMMARY:Midwest Slam Fest
DESCRIPTION:DemsFightinWords - Orbital Gate - Chaosphere - Bind The Sacrifi
 ce - How It Ends - The Sheltered - Traumatization - World of Malice - Gutn
 oose - SVNTN - Astray We Bloom - Termina-Bound (Farewell Show) - Firmly Gr
 asped - Vulge - Blight - Curse Dealer - VoKillz - Gen-X Joplin - Droogz - 
 Know Pain\n\n\nMain Stage:\nDemsFightinWords\, Orbital Gate\, Chaosphere\,
  Bind the Sacrifice\, How It Ends\, The Sheltered\, World of Malice\, Trau
 matization\, Gutnoose\, SVNTN\, Astray We Bloom\, Termina\nPub Stage:\nBou
 nd (Farewell Show)\, Firmly Grasped\, Vulge\, Blight\, Curse Dealer\, VoKi
 llz\, Gutnoose\, Droogz\, Know Pain\n--\nSaturday\, May 2ndat Durty Nellie
 ’s\, Palatine IL\nDoors: 1pm / Show: 2pm-11pm$25 AVD / $30 DOS
ATTACH;FMTTYPE=image/jpeg:https://thecmf.com/wp-content/uploads/2026/03/64
 3556195_17928482796227138_7427340007149895610_n.jpg
CATEGORIES:All Ages
LOCATION:Durty Nellies\, 180 N Smith St\, Palatine\, Illinois\, 60067\, Uni
 ted States
GEO:42.113669;-88.049161
X-APPLE-STRUCTURED-LOCATION;VALUE=URI;X-ADDRESS=180 N Smith St\, Palatine\,
  Illinois\, 60067\, United States;X-APPLE-RADIUS=100;X-TITLE=Durty Nellies
 :geo:42.113669,-88.049161
END:VEVENT
BEGIN:VTIMEZONE
TZID:America/Chicago
X-LIC-LOCATION:America/Chicago
BEGIN:DAYLIGHT
DTSTART:20260308T030000
TZOFFSETFROM:-0600
TZOFFSETTO:-0500
TZNAME:CDT
END:DAYLIGHT
END:VTIMEZONE
END:VCALENDAR