BEGIN:VCALENDAR
VERSION:2.0
PRODID:-//wp-events-plugin.com//7.2.3.1//EN
TZID:America/Chicago
X-WR-TIMEZONE:America/Chicago
BEGIN:VEVENT
UID:16899@thecmf.com
DTSTART;TZID=America/Chicago:20260426T170000
DTEND;TZID=America/Chicago:20260426T170000
DTSTAMP:20260409T071045Z
URL:https://thecmf.com/events/metalocalypse-nekrogoblikon-bongripper/
SUMMARY:DETHKLOK\, NEKROGOBLIKON\, BONGRIPPER
DESCRIPTION:SUPPORT ADDED\nNekrogoblikon and BONGRIPPER are joining the lin
 eup for Dethklok on April 26  Join us as we celebrate 20 years of Metaloca
 lypse - get tickets now! https://livemu.sc/4m6aOeH\n
ATTACH;FMTTYPE=image/jpeg:https://thecmf.com/wp-content/uploads/2026/03/65
 9287302_1441384921120666_1251862201644723979_n.jpg
CATEGORIES:All Ages
LOCATION:Aragon Ballroom\, 1106 W Lawrence Ave\, Chicago\, Illinois\, 60640
 \, United States
GEO:41.969128;-87.658039
X-APPLE-STRUCTURED-LOCATION;VALUE=URI;X-ADDRESS=1106 W Lawrence Ave\, Chica
 go\, Illinois\, 60640\, United States;X-APPLE-RADIUS=100;X-TITLE=Aragon Ba
 llroom:geo:41.969128,-87.658039
END:VEVENT
BEGIN:VTIMEZONE
TZID:America/Chicago
X-LIC-LOCATION:America/Chicago
BEGIN:DAYLIGHT
DTSTART:20260308T030000
TZOFFSETFROM:-0600
TZOFFSETTO:-0500
TZNAME:CDT
END:DAYLIGHT
END:VTIMEZONE
END:VCALENDAR