BEGIN:VCALENDAR
VERSION:2.0
PRODID:-//wp-events-plugin.com//7.2.3.1//EN
TZID:America/Chicago
X-WR-TIMEZONE:America/Chicago
BEGIN:VEVENT
UID:10891@thecmf.com
DTSTART;TZID=America/Chicago:20230305T200000
DTEND;TZID=America/Chicago:20230305T200000
DTSTAMP:20230226T230305Z
URL:https://thecmf.com/events/metal-sunday-w-djs-rodney-carriemonster-2-bl
 umenfluker-shots-3-pbr/
SUMMARY:theCMF Metal Sunday March edition w/  DJ's Rodney & CarrieMonster +
  a food pop up + $2 Blumenflüker shots $3 PBR's & $6 PBR & Malort shot co
 mbo
DESCRIPTION:theCMF Metal Sunday at Live Wire March edition \nw/ DJ's Rodney
  &amp\; CarrieMonster + food pop up + drink specials\n\nGet BlumenFÜCKED 
 up with\n$2 Blumenflüker shots &amp\; $3 PBR\n\ngood music requests taken
 \ntips appreciated\n\nNO COVER\n\n21+\n\nLiveWire Lounge\n3394 N Milwaukee
  Ave\, Chicago\, Illinois\, 60641\n\n\n\n&nbsp\;\n\n\nget on The Chicago M
 etal Factory mailing list here:\nhttps://mailchi.mp/d8a464f81d8f/get-on-th
 e-list\njoin theCMF FB group here:\nhttps://www.facebook.com/groups/140944
 532613588\n
ATTACH;FMTTYPE=image/jpeg:https://thecmf.com/wp-content/uploads/2023/01/80
 0x8000305livewire.jpg
CATEGORIES:21+
LOCATION:LiveWire Lounge\, 3394 N Milwaukee Ave\, Chicago\, Illinois\, 6064
 1\, United States
GEO:41.942821;-87.730414
X-APPLE-STRUCTURED-LOCATION;VALUE=URI;X-ADDRESS=3394 N Milwaukee Ave\, Chic
 ago\, Illinois\, 60641\, United States;X-APPLE-RADIUS=100;X-TITLE=LiveWire
  Lounge:geo:41.942821,-87.730414
END:VEVENT
BEGIN:VTIMEZONE
TZID:America/Chicago
X-LIC-LOCATION:America/Chicago
BEGIN:STANDARD
DTSTART:20221106T010000
TZOFFSETFROM:-0500
TZOFFSETTO:-0600
TZNAME:CST
END:STANDARD
END:VTIMEZONE
END:VCALENDAR