BEGIN:VCALENDAR
VERSION:2.0
PRODID:-//wp-events-plugin.com//7.2.3.1//EN
TZID:America/Chicago
X-WR-TIMEZONE:America/Chicago
BEGIN:VEVENT
UID:10716@thecmf.com
DTSTART;TZID=America/Chicago:20230115T200000
DTEND;TZID=America/Chicago:20230115T200000
DTSTAMP:20230114T211755Z
URL:https://thecmf.com/events/metal-sunday-w-bbq-djs-rodney-carrie-monster
 -drink-specials/
SUMMARY:Metal Sunday w/ DJ's Rodney & CarrieMonster\, $2 Blumenflüker shot
 s & $3 PBR\, A GRILLED CHEESE POP UP plus FREE POPCORN!
DESCRIPTION:theCMF Metal Sunday at Live Wire January edition\nw/ DJ's Rodne
 y &amp\; CarrieMonster + drink specials\n\nGet BlumenFÜCKED up with\n$2 B
 lumenflüker shots &amp\; $3 PBR\ngood music requests taken\ntips apprecia
 ted\nNO COVER\n21+\n\nget on The Chicago Metal Factory mailing list here:
  https://mailchi.mp/d8a464f81d8f/get-on-the-list\njoin theCMF FB group he
 re:\nhttps://www.facebook.com/groups/140944532613588\n&nbsp\;\n\nFacebook 
 event page
ATTACH;FMTTYPE=image/jpeg:https://thecmf.com/wp-content/uploads/2022/11/32
 4766090_6173018526051130_3767149323366490616_n.jpg
CATEGORIES:21+
LOCATION:LiveWire Lounge\, 3394 N Milwaukee Ave\, Chicago\, Illinois\, 6064
 1\, United States
GEO:41.942821;-87.730414
X-APPLE-STRUCTURED-LOCATION;VALUE=URI;X-ADDRESS=3394 N Milwaukee Ave\, Chic
 ago\, Illinois\, 60641\, United States;X-APPLE-RADIUS=100;X-TITLE=LiveWire
  Lounge:geo:41.942821,-87.730414
END:VEVENT
BEGIN:VTIMEZONE
TZID:America/Chicago
X-LIC-LOCATION:America/Chicago
BEGIN:STANDARD
DTSTART:20221106T010000
TZOFFSETFROM:-0500
TZOFFSETTO:-0600
TZNAME:CST
END:STANDARD
END:VTIMEZONE
END:VCALENDAR