BEGIN:VCALENDAR
VERSION:2.0
PRODID:-//wp-events-plugin.com//7.2.3.1//EN
TZID:America/Chicago
X-WR-TIMEZONE:America/Chicago
BEGIN:VEVENT
UID:10632@thecmf.com
DTSTART;TZID=America/Chicago:20221023T200000
DTEND;TZID=America/Chicago:20221023T200000
DTSTAMP:20221006T234118Z
URL:https://thecmf.com/events/metal-sunday-spooky-edition-w-djs-rodney-car
 rie-monster-drink-specials-bbq-candy-giveaways/
SUMMARY:Metal Sunday spooky edition w/ DJ's Rodney & Carrie Monster + drink
  specials ~ BBQ ~ candy & giveaways
DESCRIPTION:Metal Sunday spooky edition\nw/ DJ's Rodney &amp\; Carrie Monst
 er + drink specials ~ BBQ ~ candy &amp\; giveaways\n\nFacebook event page\
 n\ndrink specials include:\n$2 Henderson shots\n$3 smashed punkin\n$3 PBR\
 ngiveaways from:\nMacabre\, November's Doom\, Inner Decay\, Imminent Terro
 r &amp\; more\nNO COVER\n21+
ATTACH;FMTTYPE=image/jpeg:https://thecmf.com/wp-content/uploads/2022/10/10
 23livewire512.jpg
CATEGORIES:21+
LOCATION:LiveWire Lounge\, 3394 N Milwaukee Ave\, Chicago\, Illinois\, 6064
 1\, United States
GEO:41.942821;-87.730414
X-APPLE-STRUCTURED-LOCATION;VALUE=URI;X-ADDRESS=3394 N Milwaukee Ave\, Chic
 ago\, Illinois\, 60641\, United States;X-APPLE-RADIUS=100;X-TITLE=LiveWire
  Lounge:geo:41.942821,-87.730414
END:VEVENT
BEGIN:VTIMEZONE
TZID:America/Chicago
X-LIC-LOCATION:America/Chicago
BEGIN:DAYLIGHT
DTSTART:20220313T030000
TZOFFSETFROM:-0600
TZOFFSETTO:-0500
TZNAME:CDT
END:DAYLIGHT
END:VTIMEZONE
END:VCALENDAR