BEGIN:VCALENDAR
VERSION:2.0
PRODID:-//wp-events-plugin.com//7.2.3.1//EN
TZID:America/Chicago
X-WR-TIMEZONE:America/Chicago
BEGIN:VEVENT
UID:13769@thecmf.com
DTSTART;TZID=America/Chicago:20240702T210000
DTEND;TZID=America/Chicago:20240702T210000
DTSTAMP:20240627T024651Z
URL:https://thecmf.com/events/metal-shop-50/
SUMMARY:Metal Shop
DESCRIPTION:Metal Shop salutes all the great American heavy metal and hard 
 rock on July 2! Bucket O'Blood DJ Grant spins 5 hours of non-stop jams and
  there are beer and whiskey specials all night. No cover - all fun. PLUS y
 ou could win concert tickets (details coming soon)!\nhttps://www.facebook.
 com/events/1005073554961560
ATTACH;FMTTYPE=image/jpeg:https://thecmf.com/wp-content/uploads/2024/06/44
 8976520_898752018724270_519574848104862196_n.jpg
CATEGORIES:Unknown Age Restriction
LOCATION:Delilah's\, 2771 N Lincoln Ave\, Chicago\, Illinois\, 60614\, Unit
 ed States
GEO:41.93237;-87.657927
X-APPLE-STRUCTURED-LOCATION;VALUE=URI;X-ADDRESS=2771 N Lincoln Ave\, Chicag
 o\, Illinois\, 60614\, United States;X-APPLE-RADIUS=100;X-TITLE=Delilah's:
 geo:41.93237,-87.657927
END:VEVENT
BEGIN:VTIMEZONE
TZID:America/Chicago
X-LIC-LOCATION:America/Chicago
BEGIN:DAYLIGHT
DTSTART:20240310T030000
TZOFFSETFROM:-0600
TZOFFSETTO:-0500
TZNAME:CDT
END:DAYLIGHT
END:VTIMEZONE
END:VCALENDAR