BEGIN:VCALENDAR
VERSION:2.0
PRODID:-//wp-events-plugin.com//7.2.3.1//EN
TZID:America/Chicago
X-WR-TIMEZONE:America/Chicago
BEGIN:VEVENT
UID:16907@thecmf.com
DTSTART;TZID=America/Chicago:20260430T200000
DTEND;TZID=America/Chicago:20260430T200000
DTSTAMP:20260401T034819Z
URL:https://thecmf.com/events/mean-street/
SUMMARY:MEAN STREET
DESCRIPTION:Chicago's ultimate tribute to Van Halen\, the mighty Mean Stree
 t\, deep in the heart of Edison Park! There is no cover charge but please 
 take care of our bartenders &amp\; the band. Music begins at 8pm.\n
ATTACH;FMTTYPE=image/jpeg:https://thecmf.com/wp-content/uploads/2026/03/04
 30MEANSTREET.jpg
CATEGORIES:21+
LOCATION:Firewater Saloon\, 6689 N Oliphant Ave\, Chicago\, Illinois\, 6063
 1\, United States
GEO:42.002381;-87.816324
X-APPLE-STRUCTURED-LOCATION;VALUE=URI;X-ADDRESS=6689 N Oliphant Ave\, Chica
 go\, Illinois\, 60631\, United States;X-APPLE-RADIUS=100;X-TITLE=Firewater
  Saloon:geo:42.002381,-87.816324
END:VEVENT
BEGIN:VTIMEZONE
TZID:America/Chicago
X-LIC-LOCATION:America/Chicago
BEGIN:DAYLIGHT
DTSTART:20260308T030000
TZOFFSETFROM:-0600
TZOFFSETTO:-0500
TZNAME:CDT
END:DAYLIGHT
END:VTIMEZONE
END:VCALENDAR