BEGIN:VCALENDAR
VERSION:2.0
PRODID:-//wp-events-plugin.com//7.2.3.1//EN
TZID:America/Chicago
X-WR-TIMEZONE:America/Chicago
BEGIN:VEVENT
UID:12202@thecmf.com
DTSTART;TZID=America/Chicago:20240410T190000
DTEND;TZID=America/Chicago:20240410T190000
DTSTAMP:20231115T030613Z
URL:https://thecmf.com/events/mannequin-pussy-soul-glo/
SUMMARY:MANNEQUIN PUSSY\, SOUL GLO
DESCRIPTION:Tickets\n\nWed Apr 10 2024\n8:00 PM (Doors 7:00 PM)\nThalia Hal
 l\n1807 S Allport St Chicago\, IL 60608\nAges 17+\n\nMannequin Pussy\, I G
 ot Heaven\nEpitaph Records\nMarch 1\, 2024\n\nMannequin Pussy’s music fe
 els like a resilient and galvanizing shout that demands to be heard. Acros
 s four albums\, the Philadelphia rock band that consists of Colins “Bear
 ” Regisford (bass\, vocals)\, Kaleen Reading (drums\, percussion)\, Maxi
 ne Steen (guitar\, synths)\, and Marisa Dabice (guitar\, vocals) has made 
 cathartic tunes about despairing times. “There's just so much constantly
  going on that feels intentionally evil that trying to make something beau
 tiful feels like a radical act\,” says Dabice. “The ethos of this band
  has always been to bring people together.”\n\nTheir latest I Got Heaven
 \, which is out March 1 via Epitaph Records\, is the band’s most fully r
 ealized LP yet. Over 10 ambitious tracks which abruptly turn from searing 
 punk to inviting pop\, the album is deeply concerned with desire\, the pow
 er in being alone\, and how to live in an unfeeling and unkind world. It
 ’s a document of a band doubling down on their unshakable bond to make s
 omething furious\, thrilling\, and wholly alive.\nFollowing the 2019 relea
 se of their critically acclaimed third album Patience\, Mannequin Pussy re
 turned in 2021 for their EP Perfect. They toured that release relentlessly
  and added guitarist Maxine Steen to the band’s official lineup. Where t
 he band members’ personal lives were in transition with breakups\, chang
 ing living situations\, and periods of self-reevaluation\, their time toge
 ther on the road was a grounding and clarifying force.\n\n“There was so 
 much going on in our lives that it was the perfect opportunity to recalibr
 ate who we were as people and musicians\,” says Regisford. The band chan
 ged their entire formula\, choosing to write together in LosAngeles with p
 roducer John Congleton over slowly crafting tracks at home. “When I've w
 ritten songs\, it's usually a very solitary process\,” says Dabice. “S
 o this was shedding a lot of those hermit-like qualities to do something i
 ntensively collaborative. Your best work comes when you\nallow other peopl
 e into it.” By December 2022\, the band had 17 new songs written with Co
 ngleton in Los Angeles. “Everyone felt empowered to speak up about their
  own ideas to make this thing the best it could possibly be\,” says Regi
 sford. New member Maxine Steen\, who has made music with Dabice for years 
 including their side project Rosie Thorne\, was especially essential to th
 e writing sessions. The album opener “I Got Heaven” initially started 
 as one of Steen’s demos. “When she showed it to me I knew it was going
  to be fun because the verses have this hard-hitting and aggressive\nappro
 ach but the chorus allows for a really soaring melody\,” says Dabice. Th
 e result is electric. Over walloping guitar riffs\, Dabice defiantly yells
 \, “And what if I’m an angel? Oh what if I’m a bore? And what if I w
 as confident would you just hate me more?\n\nhttps://www.facebook.com/even
 ts/2468772003308809
ATTACH;FMTTYPE=image/jpeg:https://thecmf.com/wp-content/uploads/2023/11/40
 0403939_960435472215967_1470970835419034381_n.jpg
CATEGORIES:17+
LOCATION:Thalia Hall\, 1807 S Allport St\, Chicago\, Illinois\, 60608\, Uni
 ted States
GEO:41.857822;-87.657483
X-APPLE-STRUCTURED-LOCATION;VALUE=URI;X-ADDRESS=1807 S Allport St\, Chicago
 \, Illinois\, 60608\, United States;X-APPLE-RADIUS=100;X-TITLE=Thalia Hall
 :geo:41.857822,-87.657483
END:VEVENT
BEGIN:VTIMEZONE
TZID:America/Chicago
X-LIC-LOCATION:America/Chicago
BEGIN:DAYLIGHT
DTSTART:20240310T030000
TZOFFSETFROM:-0600
TZOFFSETTO:-0500
TZNAME:CDT
END:DAYLIGHT
END:VTIMEZONE
END:VCALENDAR