BEGIN:VCALENDAR
VERSION:2.0
PRODID:-//wp-events-plugin.com//7.2.3.1//EN
TZID:America/Chicago
X-WR-TIMEZONE:America/Chicago
BEGIN:VEVENT
UID:14853@thecmf.com
DTSTART;TZID=America/Chicago:20250301T190000
DTEND;TZID=America/Chicago:20250301T190000
DTSTAMP:20250121T013308Z
URL:https://thecmf.com/events/lurid-karkosa-ossilegium-withering-soul/
SUMMARY:LURID\, KARKOSA\, OSSILEGIUM\, WITHERING SOUL
DESCRIPTION:Pabst Blue Ribbon &amp\; Forever Deaf Presents:\nLURID\nw/ spec
 ial guests:\nKARKOSA\nOSSILEGIUM\nWITHERING SOUL\nSaturday March 1st 2025\
 nLive Wire Lounge\n3394 N Milwaukee Ave Chicago Il\n21+ // 1 for $10 or 2 
 for $15 TICKET SPECIAL // Doors: 7pm // Bands: 8pm. Tickets only available
  day of at the door.\nhttps://www.facebook.com/events/930550102125924
ATTACH;FMTTYPE=image/jpeg:https://thecmf.com/wp-content/uploads/2025/01/47
 1966061_1136896414758367_3903065533098139371_n.jpg
CATEGORIES:21+
LOCATION:LiveWire Lounge\, 3394 N Milwaukee Ave\, Chicago\, Illinois\, 6064
 1\, United States
GEO:41.942821;-87.730414
X-APPLE-STRUCTURED-LOCATION;VALUE=URI;X-ADDRESS=3394 N Milwaukee Ave\, Chic
 ago\, Illinois\, 60641\, United States;X-APPLE-RADIUS=100;X-TITLE=LiveWire
  Lounge:geo:41.942821,-87.730414
END:VEVENT
BEGIN:VTIMEZONE
TZID:America/Chicago
X-LIC-LOCATION:America/Chicago
BEGIN:STANDARD
DTSTART:20241103T010000
TZOFFSETFROM:-0500
TZOFFSETTO:-0600
TZNAME:CST
END:STANDARD
END:VTIMEZONE
END:VCALENDAR