BEGIN:VCALENDAR
VERSION:2.0
PRODID:-//wp-events-plugin.com//7.2.3.1//EN
TZID:America/Chicago
X-WR-TIMEZONE:America/Chicago
BEGIN:VEVENT
UID:16475@thecmf.com
DTSTART;TZID=America/Chicago:20260501T150000
DTEND;TZID=America/Chicago:20260502T234500
DTSTAMP:20251219T015913Z
URL:https://thecmf.com/events/legions-of-metal-fest-2026/
SUMMARY:Legions of Metal Fest 2026
DESCRIPTION:https://reggieslive.com/show/legions-of-metal-fest-2026/\nLegio
 ns of Metal Fest 2026 (May 1st and May 2nd)\n
ATTACH;FMTTYPE=image/jpeg:https://thecmf.com/wp-content/uploads/2025/12/59
 9948926_1392698442651749_1690088167018912185_n.jpg
CATEGORIES:17+
LOCATION:Reggies Rock Club\, 2109 S State St\, Chicago\, Illinois\, 60616\,
  United States
GEO:41.853951;-87.62679
X-APPLE-STRUCTURED-LOCATION;VALUE=URI;X-ADDRESS=2109 S State St\, Chicago\,
  Illinois\, 60616\, United States;X-APPLE-RADIUS=100;X-TITLE=Reggies Rock 
 Club:geo:41.853951,-87.62679
END:VEVENT
BEGIN:VTIMEZONE
TZID:America/Chicago
X-LIC-LOCATION:America/Chicago
BEGIN:DAYLIGHT
DTSTART:20260308T030000
TZOFFSETFROM:-0600
TZOFFSETTO:-0500
TZNAME:CDT
END:DAYLIGHT
END:VTIMEZONE
END:VCALENDAR