BEGIN:VCALENDAR
VERSION:2.0
PRODID:-//wp-events-plugin.com//7.2.3.1//EN
TZID:America/Chicago
X-WR-TIMEZONE:America/Chicago
BEGIN:VEVENT
UID:10424@thecmf.com
DTSTART;TZID=America/Chicago:20220904T190000
DTEND;TZID=America/Chicago:20220904T190000
DTSTAMP:20220903T023428Z
URL:https://thecmf.com/events/labor-day-eve-metal-sunday-w-giveaways-drink
 -specials-free-bbq/
SUMMARY:Labor Day Eve Metal Sunday w/ giveaways\, drink specials & FREE BBQ
DESCRIPTION:Labor Day Eve Metal Sunday w/ giveaways\, drink specials &amp\;
  FREE BBQ\nSunday\, September 4th @ Live Wire\n7PM – close\ndrink specia
 ls include:\n$2 shots of Henderson Whiskey\n$3 cans of Breckenridge Summer
  Shandy\n$3 PBRs\n\n\nRodney &amp\; Carrie Monster taking your requests\n\
 nFacebook event page:\nhttps://www.facebook.com/events/441557757912814\n\n
 ticket giveaways include:\n\n\nHEILUNG\nTuesday 9/13 @ Radius\nhttps://www
 .axs.com/events/414532/heilung-tickets?skin=radius\n\nOCEANS OF SLUMBER\, 
 WITHERING SOUL\nThursday 9/8 @ Reggies\nhttps://www.reggieslive.com/show/o
 ceans-of-slumber/\n\n\nMDC\nThursday 9/8 @ Reggies\nhttps://www.reggiesliv
 e.com/show/mdc-3/\n\nMARS RED SKY\nFriday 9/9 @ Reggies\nhttps://www.reggi
 eslive.com/show/mars-red-sky-2/\n\nNO/MAS\nSunday 9/11 @ Cobra Lounge\nhtt
 ps://tinyurl.com/wff3kxvs\n\nSPITER\, NEQUIENT\, JUNKERS\nTuesday 9/13 @ C
 obra Lounge\nhttps://link.dice.fm/H2c78032ea39\n\nTHE ACACIA STRAIN\, SANG
 UISUGABOGG\nTuesday 9/13 @ Subterranean\nhttps://www.ticketweb.com/event/t
 he-acacia-strain-w-sanguisugabogg-subterranean-tickets/12294635\n\nEL PERR
 O\nThursday 9/15 @ Reggies\nhttps://www.reggieslive.com/show/el-perro-2/\n
 \nJUNGLE ROT\nThursday 9/22 @ Reggies\nhttps://www.reggieslive.com/show/ju
 ngle-rot/\n\n\nLAMB OF GOD\, KILLSWITCH ENGAGE\nSaturday 9/24 @ Northerly 
 Island\nhttps://concerts.livenation.com/event/04005CC22E1F629F\n\nWHUT?\, 
 ARMORED ASSAULT\nSaturday 9/24 @ Live Wire\n\nMAX &amp\; IGGOR CAVALERA\nS
 unday 10/9 @ Concord Music Hall\nhttps://go.concordmusichall.com/cavalera\
 n\nCLUTCH\nSunday 10/16 @ Concord Music Hall\nhttps://concordmusichall.com
 /calendar/clutch-2/
ATTACH;FMTTYPE=image/jpeg:https://thecmf.com/wp-content/uploads/2022/08/09
 04IG.jpg
CATEGORIES:21+
LOCATION:LiveWire Lounge\, 3394 N Milwaukee Ave\, Chicago\, Illinois\, 6064
 1\, United States
GEO:41.942821;-87.730414
X-APPLE-STRUCTURED-LOCATION;VALUE=URI;X-ADDRESS=3394 N Milwaukee Ave\, Chic
 ago\, Illinois\, 60641\, United States;X-APPLE-RADIUS=100;X-TITLE=LiveWire
  Lounge:geo:41.942821,-87.730414
END:VEVENT
BEGIN:VTIMEZONE
TZID:America/Chicago
X-LIC-LOCATION:America/Chicago
BEGIN:DAYLIGHT
DTSTART:20220313T030000
TZOFFSETFROM:-0600
TZOFFSETTO:-0500
TZNAME:CDT
END:DAYLIGHT
END:VTIMEZONE
END:VCALENDAR