BEGIN:VCALENDAR
VERSION:2.0
PRODID:-//wp-events-plugin.com//7.2.3.1//EN
TZID:America/Chicago
X-WR-TIMEZONE:America/Chicago
BEGIN:VEVENT
UID:16812@thecmf.com
DTSTART;TZID=America/Chicago:20260725T200000
DTEND;TZID=America/Chicago:20260725T200000
DTSTAMP:20260303T070946Z
URL:https://thecmf.com/events/l-a-guns-4/
SUMMARY:L.A. GUNS
DESCRIPTION:TICKETS\n\nSince their self-titled debut in 1988 to the widely 
 praised comeback albums “The Missing Peace” and “The Devil You Know
 ”\, L.A. GUNS\, led by Tracii Guns and Phil Lewis have always delivered 
 solid rock ‘n roll to their fans. A must hear and listen for all fans of
  the band\, both new and old. L.A. Guns never looked like the pretty poste
 r boys that so many of their peers did\, but more the band that you would 
 be terrified to bump into in an alley as they would likely be carrying swi
 tchblades and ready for a fight. But despite having many songs to back up 
 that image\, the band could also write powerful ballads (see the smash hit
 \, “The Ballad Of Jayne” for Exhibit A of this argument) that showed t
 here were some serious songwriting chops in the band. Other top hits inclu
 de “Never Enough\,” “Electric Gypsy\,” “Over The Edge” and mor
 e!
ATTACH;FMTTYPE=image/jpeg:https://thecmf.com/wp-content/uploads/2026/03/LA
 -Guns-web.png.webp
CATEGORIES:All Ages
LOCATION:Arcada Theatre\, 105 E Main St\, Saint Charles\, Illinois\, 60174\
 , United States
GEO:41.916953;-88.294768
X-APPLE-STRUCTURED-LOCATION;VALUE=URI;X-ADDRESS=105 E Main St\, Saint Charl
 es\, Illinois\, 60174\, United States;X-APPLE-RADIUS=100;X-TITLE=Arcada Th
 eatre:geo:41.916953,-88.294768
END:VEVENT
BEGIN:VTIMEZONE
TZID:America/Chicago
X-LIC-LOCATION:America/Chicago
BEGIN:DAYLIGHT
DTSTART:20260308T030000
TZOFFSETFROM:-0600
TZOFFSETTO:-0500
TZNAME:CDT
END:DAYLIGHT
END:VTIMEZONE
END:VCALENDAR