BEGIN:VCALENDAR
VERSION:2.0
PRODID:-//wp-events-plugin.com//7.2.3.1//EN
TZID:America/Chicago
X-WR-TIMEZONE:America/Chicago
BEGIN:VEVENT
UID:16987@thecmf.com
DTSTART;TZID=America/Chicago:20260724T190000
DTEND;TZID=America/Chicago:20260724T190000
DTSTAMP:20260422T021447Z
URL:https://thecmf.com/events/kylesa-yakuza-cloud-rat/
SUMMARY:KYLESA\, YAKUZA\, CLOUD RAT
DESCRIPTION:Kylesa with Yakuza and Cloud Rat @ Thalia HallFriday\, July 24\
 , 2026Doors: 7:00 PM | Show: 8:00 PM\ntickets\n\n
ATTACH;FMTTYPE=image/jpeg:https://thecmf.com/wp-content/uploads/2026/04/ky
 lesa.jpeg
CATEGORIES:17+
LOCATION:Thalia Hall\, 1807 S Allport St\, Chicago\, Illinois\, 60608\, Uni
 ted States
GEO:41.857822;-87.657483
X-APPLE-STRUCTURED-LOCATION;VALUE=URI;X-ADDRESS=1807 S Allport St\, Chicago
 \, Illinois\, 60608\, United States;X-APPLE-RADIUS=100;X-TITLE=Thalia Hall
 :geo:41.857822,-87.657483
END:VEVENT
BEGIN:VTIMEZONE
TZID:America/Chicago
X-LIC-LOCATION:America/Chicago
BEGIN:DAYLIGHT
DTSTART:20260308T030000
TZOFFSETFROM:-0600
TZOFFSETTO:-0500
TZNAME:CDT
END:DAYLIGHT
END:VTIMEZONE
END:VCALENDAR