BEGIN:VCALENDAR
VERSION:2.0
PRODID:-//wp-events-plugin.com//7.2.3.1//EN
TZID:America/Chicago
X-WR-TIMEZONE:America/Chicago
BEGIN:VEVENT
UID:16953@thecmf.com
DTSTART;TZID=America/Chicago:20260625T183000
DTEND;TZID=America/Chicago:20260625T183000
DTSTAMP:20260409T041531Z
URL:https://thecmf.com/events/kuarantine-ft-chris-jericho-enuff-znuff/
SUMMARY:KUARANTINE FT CHRIS JERICHO\, ENUFF Z'NUFF
DESCRIPTION:\nKUARANTINE FT CHRIS JERICHO | ENUFF Z'NUFF\n\n\nJun 25\, 2026
 \, 6:30 PM\n\n\nKuarantine is a rock ‘n’ roll supergroup\, specializin
 g in non make up era Kiss tunes\, featuring Fozzy frontman Chris Jericho\,
  Kent Slucher (Luke Bryan)\, Joe McGinness (KLASSIK ’78)\, PJ Farley (Fo
 zzy/Trixter) and Charlie Parra\nDoors: 6:30pm\, Show: 7:30pm Ticket Prices
 : $20 Age Restrictions: 18 &amp\; up
ATTACH;FMTTYPE=image/jpeg:https://thecmf.com/wp-content/uploads/2026/04/06
 25wc.avif
CATEGORIES:18+
LOCATION:The WC Social Club\, 920 Roosevelt Rd\, West Chicago\, Illinois\, 
 60185\, United States
GEO:41.85991;-88.189775
X-APPLE-STRUCTURED-LOCATION;VALUE=URI;X-ADDRESS=920 Roosevelt Rd\, West Chi
 cago\, Illinois\, 60185\, United States;X-APPLE-RADIUS=100;X-TITLE=The WC 
 Social Club:geo:41.85991,-88.189775
END:VEVENT
BEGIN:VTIMEZONE
TZID:America/Chicago
X-LIC-LOCATION:America/Chicago
BEGIN:DAYLIGHT
DTSTART:20260308T030000
TZOFFSETFROM:-0600
TZOFFSETTO:-0500
TZNAME:CDT
END:DAYLIGHT
END:VTIMEZONE
END:VCALENDAR