BEGIN:VCALENDAR
VERSION:2.0
PRODID:-//wp-events-plugin.com//7.2.3.1//EN
TZID:America/Chicago
X-WR-TIMEZONE:America/Chicago
BEGIN:VEVENT
UID:16721@thecmf.com
DTSTART;TZID=America/Chicago:20260508T190000
DTEND;TZID=America/Chicago:20260508T190000
DTSTAMP:20260211T071446Z
URL:https://thecmf.com/events/kottonmouth-kings-a-killers-confession-kung-
 fu-vampire/
SUMMARY:KOTTONMOUTH KINGS\, A KILLERS CONFESSION\, KUNG FU VAMPIRE
DESCRIPTION:Tickets &amp\; reserved seats on sale now at https://tinyurl.c
 om/4smt5wkr\nKOTTONMOUTH KINGSA KILLERS CONFESSIONKUNG FU VAMPIRE\nVIDEO:B
 ump: https://www.youtube.com/watch?v=O9Jp3w8Z10sKnock Knock: https://www
 .youtube.com/watch?v=VEj9pEPZXzk\nThis show is 18 &amp\; up\, 21 &amp\; up
  to drink\n
ATTACH;FMTTYPE=image/jpeg:https://thecmf.com/wp-content/uploads/2026/02/62
 9235804_1545554037570405_6918163671235476914_n.jpg
CATEGORIES:18+
LOCATION:The WC Social Club\, 920 Roosevelt Rd\, West Chicago\, Illinois\, 
 60185\, United States
GEO:41.85991;-88.189775
X-APPLE-STRUCTURED-LOCATION;VALUE=URI;X-ADDRESS=920 Roosevelt Rd\, West Chi
 cago\, Illinois\, 60185\, United States;X-APPLE-RADIUS=100;X-TITLE=The WC 
 Social Club:geo:41.85991,-88.189775
END:VEVENT
BEGIN:VTIMEZONE
TZID:America/Chicago
X-LIC-LOCATION:America/Chicago
BEGIN:DAYLIGHT
DTSTART:20260308T030000
TZOFFSETFROM:-0600
TZOFFSETTO:-0500
TZNAME:CDT
END:DAYLIGHT
END:VTIMEZONE
END:VCALENDAR