BEGIN:VCALENDAR
VERSION:2.0
PRODID:-//wp-events-plugin.com//7.2.3.1//EN
TZID:America/Chicago
X-WR-TIMEZONE:America/Chicago
BEGIN:VEVENT
UID:14003@thecmf.com
DTSTART;TZID=America/Chicago:20241101T190000
DTEND;TZID=America/Chicago:20241101T190000
DTSTAMP:20240809T000534Z
URL:https://thecmf.com/events/kmfdm-morlocks-2/
SUMMARY:KMFDM\, MORLOCKS
DESCRIPTION:Tickets\n2 Day Pass\nFriday\, November 1\nKMFDM – 40th Annive
 rsary Tour * Morlocks\n$45 Adv. / $49 Day of / $80 2-Day Pass / 18+ / Door
 s: 7PM / Show: 8PM\nhttps://www.facebook.com/events/430103909895424\nhttps
 ://metrochicago.com/event/kmfdm-40th-anniversary-tour-2/metro-chicago/chic
 ago-illinois/
ATTACH;FMTTYPE=image/jpeg:https://thecmf.com/wp-content/uploads/2024/08/44
 8601970_892815899557609_6762902115359329303_n.jpg
CATEGORIES:18+
LOCATION:Metro\, 3730 N Clark St\, Chicago\, Illinois\, 60613\, United Stat
 es
GEO:41.949836;-87.658965
X-APPLE-STRUCTURED-LOCATION;VALUE=URI;X-ADDRESS=3730 N Clark St\, Chicago\,
  Illinois\, 60613\, United States;X-APPLE-RADIUS=100;X-TITLE=Metro:geo:41.
 949836,-87.658965
END:VEVENT
BEGIN:VTIMEZONE
TZID:America/Chicago
X-LIC-LOCATION:America/Chicago
BEGIN:DAYLIGHT
DTSTART:20240310T030000
TZOFFSETFROM:-0600
TZOFFSETTO:-0500
TZNAME:CDT
END:DAYLIGHT
END:VTIMEZONE
END:VCALENDAR