BEGIN:VCALENDAR
VERSION:2.0
PRODID:-//wp-events-plugin.com//7.2.3.1//EN
TZID:America/Chicago
X-WR-TIMEZONE:America/Chicago
BEGIN:VEVENT
UID:12271@thecmf.com
DTSTART;TZID=America/Chicago:20240315T200000
DTEND;TZID=America/Chicago:20240315T200000
DTSTAMP:20231129T002535Z
URL:https://thecmf.com/events/kmfdm-cyanotic/
SUMMARY:KMFDM\, CYANOTIC
DESCRIPTION:Tickets\n\n\nFriday March 15\nKMFDM * Cyanotic\n$40.50 Adv. / $
 45 Day of / 18 &amp\; Over / Doors: 8pm / Show: 9pm\n\n\n\nKMFDM (original
 ly Kein Mehrheit Für Die Mitleid\, loosely translated by the band as “n
 o pity for the majority”) is a multinational industrial band from Hambur
 g\,Germany\, led by Sascha Konietzko\, who founded the band in 1984 as a p
 erformance art project in Paris\, France.\n\nCritics consider KMFDM one of
  the first bands to bring industrial music to mainstream audiences\, thoug
 h Konietzko refers to the band’s music as “The Ultra-Heavy Beat”. Th
 e band incorporates heavy metal guitar riffs\, electronic music\, and both
  male and female vocals in its music\, which encompasses a variety of styl
 es including industrial rock \, electronic body music and even reggae and 
 dub. The band is fiercely political\, with many of its lyrics taking stand
 s against violence\, war\, and oppression. KMFDM is known to tour after ev
 ery major release\, and band members have a reputation for their accessibi
 lity to and interaction with fans\, both online and at concerts.\n\n\nhttp
 s://www.facebook.com/events/681328384144873\nhttps://metrochicago.com/even
 t/kmfdm/
ATTACH;FMTTYPE=image/jpeg:https://thecmf.com/wp-content/uploads/2023/11/40
 6411773_763202265852307_7655514792409158480_n.jpg
CATEGORIES:18+
LOCATION:Metro\, 3730 N Clark St\, Chicago\, Illinois\, 60613\, United Stat
 es
GEO:41.949836;-87.658965
X-APPLE-STRUCTURED-LOCATION;VALUE=URI;X-ADDRESS=3730 N Clark St\, Chicago\,
  Illinois\, 60613\, United States;X-APPLE-RADIUS=100;X-TITLE=Metro:geo:41.
 949836,-87.658965
END:VEVENT
BEGIN:VTIMEZONE
TZID:America/Chicago
X-LIC-LOCATION:America/Chicago
BEGIN:DAYLIGHT
DTSTART:20240310T030000
TZOFFSETFROM:-0600
TZOFFSETTO:-0500
TZNAME:CDT
END:DAYLIGHT
END:VTIMEZONE
END:VCALENDAR