BEGIN:VCALENDAR
VERSION:2.0
PRODID:-//wp-events-plugin.com//7.2.3.1//EN
TZID:America/Chicago
X-WR-TIMEZONE:America/Chicago
BEGIN:VEVENT
UID:16801@thecmf.com
DTSTART;TZID=America/Chicago:20260503T120000
DTEND;TZID=America/Chicago:20260503T170000
DTSTAMP:20260302T233455Z
URL:https://thecmf.com/events/kiss-expo-2026/
SUMMARY:KISS Expo 2026
DESCRIPTION:https://www.eventbrite.com/e/kiss-expo-2026-tickets-19841868573
 03?\n
ATTACH;FMTTYPE=image/jpeg:https://thecmf.com/wp-content/uploads/2026/03/05
 03kissexpo.jpg
CATEGORIES:All Ages
LOCATION:Knights Of Columbus\, 100 129th Infantry Drive\, Joliet\, 60436\, 
 United States
GEO:41.520736;-88.149677
X-APPLE-STRUCTURED-LOCATION;VALUE=URI;X-ADDRESS=100 129th Infantry Drive\, 
 Joliet\, 60436\, United States;X-APPLE-RADIUS=100;X-TITLE=Knights Of Colum
 bus:geo:41.520736,-88.149677
END:VEVENT
BEGIN:VTIMEZONE
TZID:America/Chicago
X-LIC-LOCATION:America/Chicago
BEGIN:DAYLIGHT
DTSTART:20260308T030000
TZOFFSETFROM:-0600
TZOFFSETTO:-0500
TZNAME:CDT
END:DAYLIGHT
END:VTIMEZONE
END:VCALENDAR